BEGIN:VCALENDAR
VERSION:2.0
PRODID:-//Pure Yoga Cheshire - ECPv6.14.0//NONSGML v1.0//EN
CALSCALE:GREGORIAN
METHOD:PUBLISH
X-WR-CALNAME:Pure Yoga Cheshire
X-ORIGINAL-URL:https://pureyogacheshire.co.uk
X-WR-CALDESC:Events for Pure Yoga Cheshire
REFRESH-INTERVAL;VALUE=DURATION:PT1H
X-Robots-Tag:noindex
X-PUBLISHED-TTL:PT1H
BEGIN:VTIMEZONE
TZID:UTC
BEGIN:STANDARD
TZOFFSETFROM:+0000
TZOFFSETTO:+0000
TZNAME:UTC
DTSTART:20240101T000000
END:STANDARD
END:VTIMEZONE
BEGIN:VEVENT
DTSTART;TZID=UTC:20240921T160000
DTEND;TZID=UTC:20240928T130000
DTSTAMP:20260420T121338
CREATED:20231029T192958Z
LAST-MODIFIED:20240213T195648Z
UID:7865-1726934400-1727528400@pureyogacheshire.co.uk
SUMMARY:Hatha Yoga Retreat in Spain
DESCRIPTION:Hatha Yoga and Yoga flow\, traditional Pranayama\, Meditation and yoga philosophy.\nFrom 21st to 28th of September 2024 – Finca El Moro\, Andalucia\nA wonderful opportunity to explore and experience the gifts of Yoga in the stunning surroundings of rural Spain. \nThis retreat includes Hatha Yoga traditions passed down\, practiced and shared over the years. We will begin our days with an early morning meditation\, followed by a unique blend of pranayama and Krya. \nLate morning Asana (yoga postures) practice\, including alignment based postures and fluid free movements\, to energise\, restore and rebalance. \nThe afternoon practice begins with a catch up and time ask questions of all that arises\, physically\, mentally\, emotionally and spiritually. Followed by afternoon asana (yoga postures practice) and somatic movement. \nAndrew and Francesca have been teaching yoga for over 20 years (each) and have been leading retreats all over the world for the past 15 years. \nThe retreat: \nFinca El Moro offers more than 30 years of invaluable experience hosting retreats and group holidays. \n \nAccommodation for up to 14 people in our three beautiful converted stone cottages. \nDelicious meals served on the main terrace using our organic fresh farm produce. \nExclusive use of our facilities\, three swimming pools\, massage studio and Shala. \nUse of Yoga mats\, blocks\, bolsters and straps. The Yoga Shala is a spectacular circular space with wooden floors. \nHow to get there: Seville is the nearest airport. The Retreat organises a transfer on the day of arrival. You can also find more information on how to get there here: https://www.fincaelmoro.com/travel-and-contact/ \nAll inclusive retreat including accommodation\, use of the swimming pool on site\, all meals and yoga tutoring – prices starting at £995 \nA deposit to the retreat is required to secure your booking\, please email Daisy at Finca El Moro daisy@fincaelmoro.com \nPlease feel free to ask any questions info@pureyogacheshire.co.uk – yogawithandrew.co.uk or phone 07521 132931 \nPrices: £995 (€1150) in shared room – £1300 (€1495) in single room \n 
URL:https://pureyogacheshire.co.uk/event/hatha-yoga-immersion-with-andrew-and-francesca/
LOCATION:Finca El Moro\, Fuenteheridos\, Huelva\, 21292\, Spain
CATEGORIES:Retreats
ATTACH;FMTTYPE=image/jpeg:https://pureyogacheshire.co.uk/wp-content/uploads/2023/10/Finca-el-moro-2.jpg
ORGANIZER;CN="Pure Yoga Cheshire":MAILTO:info@pureyogacheshire.co.uk
END:VEVENT
END:VCALENDAR