BEGIN:VCALENDAR
VERSION:2.0
PRODID:-//Pure Yoga Cheshire - ECPv6.14.0//NONSGML v1.0//EN
CALSCALE:GREGORIAN
METHOD:PUBLISH
X-WR-CALNAME:Pure Yoga Cheshire
X-ORIGINAL-URL:https://pureyogacheshire.co.uk
X-WR-CALDESC:Events for Pure Yoga Cheshire
REFRESH-INTERVAL;VALUE=DURATION:PT1H
X-Robots-Tag:noindex
X-PUBLISHED-TTL:PT1H
BEGIN:VTIMEZONE
TZID:UTC
BEGIN:STANDARD
TZOFFSETFROM:+0000
TZOFFSETTO:+0000
TZNAME:UTC
DTSTART:20240101T000000
END:STANDARD
END:VTIMEZONE
BEGIN:VEVENT
DTSTART;TZID=UTC:20240115T150000
DTEND;TZID=UTC:20240122T150000
DTSTAMP:20260421T181036
CREATED:20230425T194031Z
LAST-MODIFIED:20260108T155258Z
UID:7809-1705330800-1705935600@pureyogacheshire.co.uk
SUMMARY:Yoga Retreat in North Goa - JANUARY 2024
DESCRIPTION:Mandrem\, North Goa – from 15th to 22nd of January 2024 – Nalanda Retreat.\nJoin Andrew and Francesca for an immersion in all the principle of Yoga tradition in the very birthplace of Yoga! \nEnjoy magical sunrises and sunsets by the Indian Ocean in North Goa\, a quiet and luxurious setting amongst a delightful garden. The beautiful\, clean and spacious Mandrem beach is only a few steps away. \nGift yourself to 3 yoga sessions a day including Meditation\, Pranayama and Asana. Plenty of time to explore the nearby markets\, visit local towns and simply enjoy lying down by the beautiful sandy beach of Mandrem. The retreat also has a swimming pool. Delicious vegetarian food offered in the delightful beach restaurant. \nThe retreat includes: accommodation\, breakfast and evening meal\, 3 yoga classes a day. \nCost per person in shared accommodation TBC. There is a single room option depending on availability at additional cost. Please inquire for availability. \nHow to get there: If possible\, we suggest you arrive a couple of days (or longer) before the retreat to acclimatize yourself to the country and the climate. A good option that has worked well for us in the past\, is to fly to Mumbai where you can spend a night\, and fly to Goa the following day. There are several direct flights from Heathrow to Mumbai and it’s very easy then to book a domestic flight to Goa. We can give you ideas of hotels and nice places to stay both in Mumbai and Goa. \nThere are only very few spaces for this retreat. Please email us for more information and how to pay a deposit on info@pureyogacheshire.co.uk\n \n 
URL:https://pureyogacheshire.co.uk/event/yoga-retreat-in-india-north-goa/
CATEGORIES:Retreats,Workshops
ATTACH;FMTTYPE=image/jpeg:https://pureyogacheshire.co.uk/wp-content/uploads/2023/04/nalanda-retreat2.jpg
ORGANIZER;CN="Pure Yoga Cheshire":MAILTO:info@pureyogacheshire.co.uk
END:VEVENT
END:VCALENDAR