BEGIN:VCALENDAR
VERSION:2.0
PRODID:-//Pure Yoga Cheshire - ECPv6.14.0//NONSGML v1.0//EN
CALSCALE:GREGORIAN
METHOD:PUBLISH
X-WR-CALNAME:Pure Yoga Cheshire
X-ORIGINAL-URL:https://pureyogacheshire.co.uk
X-WR-CALDESC:Events for Pure Yoga Cheshire
REFRESH-INTERVAL;VALUE=DURATION:PT1H
X-Robots-Tag:noindex
X-PUBLISHED-TTL:PT1H
BEGIN:VTIMEZONE
TZID:UTC
BEGIN:STANDARD
TZOFFSETFROM:+0000
TZOFFSETTO:+0000
TZNAME:UTC
DTSTART:20230101T000000
END:STANDARD
END:VTIMEZONE
BEGIN:VEVENT
DTSTART;VALUE=DATE:20230420
DTEND;VALUE=DATE:20230424
DTSTAMP:20260422T090427
CREATED:20200712T165708Z
LAST-MODIFIED:20221019T142819Z
UID:6747-1681948800-1682294399@pureyogacheshire.co.uk
SUMMARY:Spring Yoga Retreat in Scotland
DESCRIPTION:Experience serenity\, calm and restoration with Andrew’s annual Yoga retreat set in the grounds of  the oldest Buddhist Monastery in Europe. Andrew has run this retreat successfully for over 10 years. \nFrom Thursday 20th to Sunday 23rd of April 2023 \n\n\n \n\n\n\n\n \n\n\n\nLooking out over the River Esk in the peaceful hills of the Scottish borders\, ‘Purelands’ at Samye Ling is an ideal setting to inspire\, exhilarate and offer time for reflection in our busy lives. The retreat offers asana\, pranayama\, meditation and mantra. There will be time and opportunity to walk around the meditation garden\, venture up the fairy hill or take a stroll along the river bank\, maybe catching a glimpse of the otters in the unspoiled natural surroundings. \nArriving on the Thursday evening and getting together for an early supper\, we will enjoy a relaxation/yoga nidra session to ground ourselves after travelling. \nEarly morning Meditation and Pranayama sessions on Friday\, Saturday and Sunday\, followed by a mid morning Asana (yoga postures) practice. Afternoon session including questions and answers\, Asana\, Pranayama quiet sitting on Friday and Saturday. Departure is after lunch on the Sunday. Silence time will be limited to every morning until after breakfast. \nFriends are also welcome to observe or participate in the meditations and puja performed in the very colorful traditional Tibetan Buddhist temple.  \nAll accommodation is in basic but comfortable single rooms with three home cooked vegetarian meals a day\, drinks available throughout the day. \n\n\n\n\n\n\n\n\n\n\n\n\n\nPrice £395 which includes all tuition\, a single room per person\, breakfast\, lunch and supper on Friday and Saturday\, supper on Thursday and breakfast and lunch on Sunday. The retreat offers fruit and hot drinks available throughout the day.  \n\n\n\nArrival time is flexible: anytime between 3 and 6 pm. Departure after lunch on the Sunday. \n\n\n\nBookings are now being taken\, £150 deposit (non refundable) secures place\, full payment by mid March 2023. \n\n\n\nPure Yoga Cheshire bank details: \n\n\n \nCo-operative Bank \n\n\n \nSort Code 089299 \n\n\n \nAccount number 69775596 \n\n\n\n\n\nThe monastery is about three and half hours drive from Manchester and Macclesfield.Car sharing may be available. \n\n\n\nAddress: Samye Ling Buddhist Monastery Eskdalemuir Langholm\,  Dumfriesshire\, Scotland \n\n\n\nNB this is a yoga retreat not a Buddhist retreat and is open to everyone from beginners to advanced students.
URL:https://pureyogacheshire.co.uk/event/weekend-yoga-retreat-in-scotland/
LOCATION:Kagyu Samye Ling Monastery\, Eskdalemuir\, Langholm\, DG13 0QL\, United Kingdom
CATEGORIES:Retreats
ATTACH;FMTTYPE=image/jpeg:https://pureyogacheshire.co.uk/wp-content/uploads/2020/07/20150612_175221.jpg
END:VEVENT
END:VCALENDAR