BEGIN:VCALENDAR
VERSION:2.0
PRODID:-//Pure Yoga Cheshire - ECPv6.14.0//NONSGML v1.0//EN
CALSCALE:GREGORIAN
METHOD:PUBLISH
X-WR-CALNAME:Pure Yoga Cheshire
X-ORIGINAL-URL:https://pureyogacheshire.co.uk
X-WR-CALDESC:Events for Pure Yoga Cheshire
REFRESH-INTERVAL;VALUE=DURATION:PT1H
X-Robots-Tag:noindex
X-PUBLISHED-TTL:PT1H
BEGIN:VTIMEZONE
TZID:UTC
BEGIN:STANDARD
TZOFFSETFROM:+0000
TZOFFSETTO:+0000
TZNAME:UTC
DTSTART:20220101T000000
END:STANDARD
END:VTIMEZONE
BEGIN:VEVENT
DTSTART;TZID=UTC:20220814T140000
DTEND;TZID=UTC:20220814T163000
DTSTAMP:20260422T221614
CREATED:20220626T211730Z
LAST-MODIFIED:20220713T123651Z
UID:7642-1660485600-1660494600@pureyogacheshire.co.uk
SUMMARY:Mermaid’s Dream Self-Care Ritual
DESCRIPTION:Yuliya Higham Yoga + YHApothecary\nI must be a mermaid. I have no fear of depth And a great fear Of shallow living. – Anais Nin \nIn mid-summer with the Sun at its highest the Fire element becomes prevalent in the body\, manifesting itself in anger\, frustration\, heartburn\, skin rashes\, thirst and heavy burning sensation in feet and legs. Mermaid’s Dream selfcare ritual is all about taking care of our feet\, the metaphorical roots that connect us to the Earth. \nCarrying us through life’s twists and turns\, feet rarely get time and attention they deserve and with so many energy points and lines running through them even a simple touch can initiate deep grounding and healing from within. \nThe ritual will include guided meditation\, breathwork and embodied movement\, finishing with deeply sensory foot treatment based on Thai Yoga Massage principles\, tapping into the healing energy of botanicals to bring lightness into your step. \nYou will also receive a selection of samples of the products we use to recreate this ritual at home. Come wearing something loose and bring a towel if you can. \n£35
URL:https://pureyogacheshire.co.uk/event/mermaids-dream-self-care-ritual/
LOCATION:Pure Yoga Cheshire\, 29\, Charlotte Street\,\, Macclesfield\, England\, SK11 6JB\, United Kingdom
ATTACH;FMTTYPE=image/jpeg:https://pureyogacheshire.co.uk/wp-content/uploads/2022/06/yuliya-July-workshop.jpg
ORGANIZER;CN="Pure Yoga Cheshire":MAILTO:info@pureyogacheshire.co.uk
END:VEVENT
END:VCALENDAR