BEGIN:VCALENDAR
VERSION:2.0
PRODID:-//Pure Yoga Cheshire - ECPv6.14.0//NONSGML v1.0//EN
CALSCALE:GREGORIAN
METHOD:PUBLISH
X-WR-CALNAME:Pure Yoga Cheshire
X-ORIGINAL-URL:https://pureyogacheshire.co.uk
X-WR-CALDESC:Events for Pure Yoga Cheshire
REFRESH-INTERVAL;VALUE=DURATION:PT1H
X-Robots-Tag:noindex
X-PUBLISHED-TTL:PT1H
BEGIN:VTIMEZONE
TZID:UTC
BEGIN:STANDARD
TZOFFSETFROM:+0000
TZOFFSETTO:+0000
TZNAME:UTC
DTSTART:20220101T000000
END:STANDARD
END:VTIMEZONE
BEGIN:VEVENT
DTSTART;TZID=UTC:20220703T173000
DTEND;TZID=UTC:20220703T183000
DTSTAMP:20260422T235147
CREATED:20220509T154028Z
LAST-MODIFIED:20220509T154028Z
UID:7612-1656869400-1656873000@pureyogacheshire.co.uk
SUMMARY:Gong Bath Meditation with Jane
DESCRIPTION:This wonderful healing event with Jane is often fully booked\, so we ask you to book in advance and arrive a few minutes before 5.30 pm to settle as we will start on time. \nGong Bath Meditation is a practice that aids healing by synchronizing our brain and restoring balance & harmony in our human system. \nCost £15 – non refundable and non transferable – please book via our timetable \nMore information about the Gong Bath: \nWater is not involved in a Gong Bath Meditation. \nInstead\, you are bathed in the sounds and vibrations of gongs\, & crystal bowls. It is a sound bath that creates profound relaxation. \nGong Bath Meditations alter brain wave patterns from the Beta (waking state) to Theta & Delta (meditative) states. Science teaches that meditative brain frequencies enable us to access our deeper subconscious and superconscious\, which are key states for healing. \nSound healing is not a new fad. The gong is one of the oldest musical instruments in the world. Based on ancient wisdom\, gongs vibrate at the same frequency as the body allowing the body to heal itself. \nThese ideas might sound kind of “woo-woo”\, but Sound Energy Healing is a physical phenomenon based on universal physical and biological principles called Sonic entrainment\, where rhythmic vibrations of similar frequencies resonate in unison. \nThe universal principles of sound mean you do not have to believe in Sound Energy Healing or understand it\, to benefit from sessions. However\, you might be like many people\, and want to know what proof exists for energy healing. \nOkay\, here comes a little Science lesson: \nThe sounds during a gong bath can be used to rebalance our human system. There is a profound effect on our cardiovascular\, autonomic\, endocrine and immune systems. It is an excellent therapy for stress-related issues\, such as depression and anxiety. \nWhat to expect in a group Gong Bath session: \nIdeally you will experience the gong bath lying comfortably on your back. You will need to bring along a blanket and a pillow. \nAll you have to do is lie comfortably and close your eyes and relax. I then begin by playing the gongs very softly\, increasing the volume as the session progresses (the volume never gets unbearable as I am playing therapeutically). I change the playing technique frequently so there is no fixed rhythm which results in the brain not being able to follow and entrainment takes place. Entrainment is the changing of brainwave frequencies. \nAfter a continuous 40 minutes of gong playing\, I start to wind down and play very gently for five minutes fading away to nothing. I then spend a little time talking you back to awareness. \nThe gong is an amazing and powerful instrument for healing work; I recommend that you take it easy for the rest of the day to allow the treatment to continue to do its work. I also advise that you drink plenty of water. \nSetting the intention or creative visualisation Difference between stress and relaxation short set of exercises to help you relax ready Sound bath with gongs Gentle return to full awareness \nOut of respect to all participants and due to the sensitive nature of the work\, DOORS CLOSE once a sessions has started there will be no admission: \nIf you would like to reserve a place\, please purchase your ticket early. Gong bath sessions are very popular. We would like to fit everybody in but tickets will be limited to space so we ensure that everybody has enough space to be comfortable and also so that everybody can be looked after. \nA few things to bring with you: \n• A yoga mat to lie on\, a pillow for your head and a blanket as some people might get a bit chilly during the session (we do provide them but feel free to bring your own cosy blanket). We try and make the room as warm as possible for you\, but if you feel the cold please make sure you wear plenty of layers and thick socks. \n• Please try to be on time so we hope you can be there for the whole session and share this experience together. \n• Please bring with you….your honesty\, your compassion\, your courage and your fears\, your dreams and your doubts\, your joy and your tears\, your sense of humor\, your voice if you want\, and your unique self. \nYou can also pay via bank transfer if you choose the “Pay Offline” option. \nBank details: \nPure Yoga Cheshire – Co-operative Bank\, Sort Code 089299 – Account number 69775596
URL:https://pureyogacheshire.co.uk/event/gong-bath-meditation-with-jane-2/
LOCATION:Pure Yoga Cheshire\, 29\, Charlotte Street\,\, Macclesfield\, England\, SK11 6JB\, United Kingdom
ATTACH;FMTTYPE=image/jpeg:https://pureyogacheshire.co.uk/wp-content/uploads/2022/05/Gong.jpg
ORGANIZER;CN="Pure Yoga Cheshire":MAILTO:info@pureyogacheshire.co.uk
END:VEVENT
BEGIN:VEVENT
DTSTART;TZID=UTC:20220722T190000
DTEND;TZID=UTC:20220722T210000
DTSTAMP:20260422T235147
CREATED:20220626T204757Z
LAST-MODIFIED:20220629T165054Z
UID:7635-1658516400-1658523600@pureyogacheshire.co.uk
SUMMARY:The Bhakti Brothers - Live Sacred Music from around the world
DESCRIPTION:Bhakti Brothers are back in Macclesfield!\nA magical evening of Mantra. Three brothers\, multiple instruments. Songs from 5 continents and a room full of tasty people. \nGeneral Admission – £16 \nBook via https://pureyogacheshire.co.uk/timetable/
URL:https://pureyogacheshire.co.uk/event/the-bhakti-brothers-live-sacred-music-from-around-the-world-2/
LOCATION:Pure Yoga Cheshire\, 29\, Charlotte Street\,\, Macclesfield\, England\, SK11 6JB\, United Kingdom
ATTACH;FMTTYPE=image/jpeg:https://pureyogacheshire.co.uk/wp-content/uploads/2022/06/bhakti-brothers-PY.jpg
ORGANIZER;CN="Pure Yoga Cheshire":MAILTO:info@pureyogacheshire.co.uk
END:VEVENT
END:VCALENDAR