BEGIN:VCALENDAR
VERSION:2.0
PRODID:-//Pure Yoga Cheshire - ECPv6.14.0//NONSGML v1.0//EN
CALSCALE:GREGORIAN
METHOD:PUBLISH
X-ORIGINAL-URL:https://pureyogacheshire.co.uk
X-WR-CALDESC:Events for Pure Yoga Cheshire
REFRESH-INTERVAL;VALUE=DURATION:PT1H
X-Robots-Tag:noindex
X-PUBLISHED-TTL:PT1H
BEGIN:VTIMEZONE
TZID:UTC
BEGIN:STANDARD
TZOFFSETFROM:+0000
TZOFFSETTO:+0000
TZNAME:UTC
DTSTART:20220101T000000
END:STANDARD
END:VTIMEZONE
BEGIN:VEVENT
DTSTART;TZID=UTC:20220115T173000
DTEND;TZID=UTC:20220115T190000
DTSTAMP:20260423T094307
CREATED:20220106T183428Z
LAST-MODIFIED:20220106T183428Z
UID:7528-1642267800-1642273200@pureyogacheshire.co.uk
SUMMARY:Mantra in Macclesfield
DESCRIPTION:An invitation to get together and to make January a little bit sweeter! \nJoin Francesca for an evening of Mantra and herbal tea \nBring your instruments if you play any\, and let’s get together as a community!\n\nNo need to book\, just drop in. Donations towards the use of the space gratefully received.
URL:https://pureyogacheshire.co.uk/event/mantra-in-macclesfield/
LOCATION:Pure Yoga Cheshire\, 29\, Charlotte Street\,\, Macclesfield\, England\, SK11 6JB\, United Kingdom
ATTACH;FMTTYPE=image/jpeg:https://pureyogacheshire.co.uk/wp-content/uploads/2022/01/mantra-chanting.jpg
END:VEVENT
BEGIN:VEVENT
DTSTART;TZID=UTC:20220116T140000
DTEND;TZID=UTC:20220116T163000
DTSTAMP:20260423T094307
CREATED:20211213T181441Z
LAST-MODIFIED:20211213T181441Z
UID:7513-1642341600-1642350600@pureyogacheshire.co.uk
SUMMARY:Deep Mid-Winter Selfcare Workshop
DESCRIPTION:Yuliya Higham Yoga + YHApothecary\n\nAs the days are beginning to get longer\, middle of January is the time to slowly start coming out of winter slumber. From Ayurvedic perspective we start to accumulate seasonal imbalances towards the end of season\, so dampness and cold winter days can lead to accumulation of mucus\, feeling of heaviness\, lethargy and even depression\, all due to increasing presence of the Earth and Water elements.\nThis workshop is an invitation to take a few hours just for yourself to deeply ground and reconnect\, taking good care of the holy temple of the soul that is your unique and beautiful body. \nWe will start with a gentle restorative yoga sequence to settle the nervous system down\, assist the lymphatic flow and connect to the body and breath. \nAfter a short break with the offering of season-oriented herbal tea and snacks\, you will be guided trough self-administered skincare ritual using the product that have been specifically created for the season\, based on aromatherapeutic and Ayurvedic principles. \nPlease wear something loose that you don’t mind getting oily. \nExpect to leave feeling glowing\, nourished\, grounded\, rejuvenated and held. \n£35 – book via our Book Now page. \nDue to the nature of this interactive workshop\, we have a very limited amount of spaces. Tickets are non refundable and non transferable.
URL:https://pureyogacheshire.co.uk/event/deep-mid-winter-selfcare-workshop/
LOCATION:Pure Yoga Cheshire\, 29\, Charlotte Street\,\, Macclesfield\, England\, SK11 6JB\, United Kingdom
ATTACH;FMTTYPE=image/jpeg:https://pureyogacheshire.co.uk/wp-content/uploads/2021/12/Yuliyas-January-workshop.jpg
END:VEVENT
BEGIN:VEVENT
DTSTART;TZID=UTC:20220116T173000
DTEND;TZID=UTC:20220116T183000
DTSTAMP:20260423T094307
CREATED:20220106T185639Z
LAST-MODIFIED:20220106T185639Z
UID:7531-1642354200-1642357800@pureyogacheshire.co.uk
SUMMARY:Yoga Nidra - Yogic Sleep
DESCRIPTION:Sunday 16th of January – from 5.30 to 6.30 pm – £13\nFrancesca looks forward to helping you relax this January\, to press pause and reset your system as we approach the door to Spring. \nJoin us for a delightful one-hour guided Yoga Nidra relaxation practice with Francesca. The perfect end to your weekend\, in readiness for a busy weekly schedule! \nYoga Nidra (Yogic Spleep or Psichic Sleep) is a proven resource for healing\, insight\, and empowerment. It helps us to re-encounter the essential truth of who we really are and provides us with the opportunity to experience deep freedom. \nYoga Nidra is practiced whilst the body is resting in a supported lying down position (or seated)\, allowing the subconscious mind to be highly receptive to cues of letting go and achieving peace. \nThis class is designed to help you to relax\, settle your thinking patterns and give your body and mind a full recharge. \nSuitable for every body and level\, with or without previous Yoga experience. \nBook early to secure your place from our timetable: https://pureyogacheshire.co.uk/timetable/\nCost £13 \nPlease wear comfortable clothes\, long sleeves tops\, socks and long pants / bottoms.  Please bring your own cozy blanket and a cushion.
URL:https://pureyogacheshire.co.uk/event/yoga-nidra-yogic-sleep-2/
LOCATION:Pure Yoga Cheshire\, 29\, Charlotte Street\,\, Macclesfield\, England\, SK11 6JB\, United Kingdom
ATTACH;FMTTYPE=image/jpeg:https://pureyogacheshire.co.uk/wp-content/uploads/2021/10/Yoga_Nidra.jpg
ORGANIZER;CN="Pure Yoga Cheshire":MAILTO:info@pureyogacheshire.co.uk
END:VEVENT
BEGIN:VEVENT
DTSTART;TZID=UTC:20220123T130000
DTEND;TZID=UTC:20220123T180000
DTSTAMP:20260423T094307
CREATED:20211117T151037Z
LAST-MODIFIED:20211123T154844Z
UID:7477-1642942800-1642960800@pureyogacheshire.co.uk
SUMMARY:Heal your body\, mind and soul with Kundalini Yoga
DESCRIPTION:Sunday 23rd of January – from 1 to 6 pm – £45\n\nHealing benefits of Kundalini Yoga are widely spread and scientifically proven. Research shows how Kundalini yoga and meditation improve general wellbeing\, heals childhood wounding and trauma\, and energises vital organs and glands. The best thing is\, one doesn’t have to talk about it or dig deep in their “stuff’’ because the technology of Kundalini yoga just works\, it’s very intelligent and precise.\n\nCome and explore how you can heal yourself\, free yourself from physical or emotional pain and live happier life. We all have healing power available to us\, it’s just a matter of tuning into it and allowing it to work for us. Kundalini yoga helps us to tune into those healing energies so we can use them on daily basis. \nIf you want to learn how to be more healthy\, happy and free – this workshop is for you. You will learn how to manage energies in your body\, how to deal with pain and be more in charge of your own health and wellbeing. \nIn this workshop we will explore many healing tools from Kundalini yoga such as yoga postures\, meditation\, mantra\, group consciousness and more. \nSuitable for the beginners. \nDARIA – KUNDALINI YOGA TEACHER/ FOUNDER OF HIGH ON YOGA\nI help people find some sanity in this completely insane world. Find peace and stillness within to be able to face life challenges with positivity and strength. So we can live our best lives possible. \nI’m a KRI Certified Kundalini Yoga Teacher Level I & II and love sharing the teachings of Yogi Bhajan both in the UK and abroad. I still find it amusing and humbling to see on a daily basis how Kundalini Yoga liberates\, elevates\, makes others stronger\, more courageous and live. \n\nBook via our Timetable – scroll down the page to book future dates: Book Now
URL:https://pureyogacheshire.co.uk/event/heal-your-body-mind-and-soul-with-kundalini-yoga/
LOCATION:Pure Yoga Cheshire\, 29\, Charlotte Street\,\, Macclesfield\, England\, SK11 6JB\, United Kingdom
END:VEVENT
END:VCALENDAR