BEGIN:VCALENDAR
VERSION:2.0
PRODID:-//Pure Yoga Cheshire - ECPv6.14.0//NONSGML v1.0//EN
CALSCALE:GREGORIAN
METHOD:PUBLISH
X-WR-CALNAME:Pure Yoga Cheshire
X-ORIGINAL-URL:https://pureyogacheshire.co.uk
X-WR-CALDESC:Events for Pure Yoga Cheshire
REFRESH-INTERVAL;VALUE=DURATION:PT1H
X-Robots-Tag:noindex
X-PUBLISHED-TTL:PT1H
BEGIN:VTIMEZONE
TZID:UTC
BEGIN:STANDARD
TZOFFSETFROM:+0000
TZOFFSETTO:+0000
TZNAME:UTC
DTSTART:20210101T000000
END:STANDARD
END:VTIMEZONE
BEGIN:VEVENT
DTSTART;TZID=UTC:20211001T180000
DTEND;TZID=UTC:20211003T143000
DTSTAMP:20260423T142009
CREATED:20210518T154602Z
LAST-MODIFIED:20210723T140304Z
UID:7324-1633111200-1633271400@pureyogacheshire.co.uk
SUMMARY:Weekend Yoga Retreat in Glastonbury
DESCRIPTION:Yoga Retreat with Andrew in Glastonbury\n1st to 3rd October 2021 – EarthSpirit Retreat \nJoin Andrew for a rejuvenating weekend of Yoga in beautiful Somerset. \nJust five miles from Glastonbury\, on the edge of Compton Dundon village in Somerset\, EarthSpirit lies within the ‘temenos’ (sacred enclosure) of Avalon. \nThe centre is situated in a beautiful landscape between two nature reserves; and just two minutes walk from St Andrew’s church\, which has within its cemetery a yew tree of 1\,800 years old. The seventeenth century farm buildings have been restored and specially converted for use as a venue. They are set within seven acres of fields and gardens. \nThe complex is based around a converted 52′ (15.5m) long barn\, with oak timbers\, reed torching (lining the inside of the roof) and stone walls. The feeling is medieval\, but with modern comforts such as under-floor heating and a large woodstove. The high roof and skylights create a light\, airy atmosphere. \nWe will be arriving on the Friday after 6 pm and enjoy an evening relaxing yoga session and supper. Saturday and Sunday morning we will be practicing Meditation and Pranayama followed by a mid morning Asana session. After lunch\, there will be free time and on Saturday afternoon we will enjoy another yoga session. The retreat will end up with a soothing practice after lunch on the Sunday afternoon. \nThis is a magical opportunity to practice yoga in one of the most sacred and energy charged places in the UK. \nSpaces are limited so your spot is only secured by paying the deposit of £150. \nCost for the whole weekend including shared accommodation\, all meals and yoga tuition: \n£355 per person in Triple room \n£385 per person in Double room \nSingle rooms available with supplement\, please ask for more information \nContact us info@pureyogacheshire.co.uk for more information and to secure your spot.
URL:https://pureyogacheshire.co.uk/event/autumn-yoga-retreat-in-glastonbury/
ATTACH;FMTTYPE=image/jpeg:https://pureyogacheshire.co.uk/wp-content/uploads/2021/05/nature.jpg
END:VEVENT
BEGIN:VEVENT
DTSTART;TZID=UTC:20211030T180000
DTEND;TZID=UTC:20211030T200000
DTSTAMP:20260423T142009
CREATED:20210915T144908Z
LAST-MODIFIED:20211007T195809Z
UID:7416-1635616800-1635624000@pureyogacheshire.co.uk
SUMMARY:Kirtan with Sion
DESCRIPTION:A Halloween special – Sion is back after his lovely kirtan with us in September\n\nCome sing from the Heart on Saturday 30th October\n6 – 8pm\n£14 – book your ticket here: https://pureyogacheshire.co.uk/timetable/\n\nYou don’t need a singing voice to be able to join in with Kirtan. Kirtan is all about singing from your heart. We sing ancient Sanskrit mantras\, through repetition of the mantras our natural state of bliss unfolds from within. You will leave feeling bright\, happy and full of light.\n\nLets sing our hearts out\, become as children again and allow our innocent and joyful nature to shine through.\nSion has been leading Kirtan for a number of years in Liverpool.\n\nHere is what others have said about past events:\n‘SUPER evening of Kirtan with the bestest of peeps. Such a BEAUTIFUL community full of love love love and connection\n\n‘ I woke this morning with Hallelujah in my head\, heart and possibly singing it! I’m so grateful for the wonderful and heart opening gathering last night. For your love and music\, and your words which have spoken directly to an issue I have been struggling with. And now it is v clear – and so obvious! – as to the way forward.’\n\n“Be-you-tiful energy and Beings at tonight’s Kirtan.\nThank you Sion for hosting\, playing\, sharing.\nOm Namaya Shiva\nhttps://pureyogacheshire.co.uk/wp-content/uploads/2021/09/121453476_147020830919779_6356600172933153395_n.mp4
URL:https://pureyogacheshire.co.uk/event/kirtan-with-sion/
LOCATION:Pure Yoga Cheshire\, 29\, Charlotte Street\,\, Macclesfield\, England\, SK11 6JB\, United Kingdom
ATTACH;FMTTYPE=image/jpeg:https://pureyogacheshire.co.uk/wp-content/uploads/2021/09/178488482_331971301694456_549849658812653936_n.jpg
ORGANIZER;CN="Pure Yoga Cheshire":MAILTO:info@pureyogacheshire.co.uk
END:VEVENT
BEGIN:VEVENT
DTSTART;TZID=UTC:20211031T140000
DTEND;TZID=UTC:20211031T163000
DTSTAMP:20260423T142009
CREATED:20211013T100937Z
LAST-MODIFIED:20211013T104126Z
UID:7443-1635688800-1635697800@pureyogacheshire.co.uk
SUMMARY:Autumnal Skincare Ritual Workshop
DESCRIPTION:31st October from 2 to 4.30 pm\n\nwith Yuliya Higham Yoga + YHApothecary \n\nAs the night are drawing in and seasons are changing we gather on the magically dark and bewitching festival of Samhain to practice a holistic approach to skincare as self-care\, helping the body prepare for the coming colder months and restore that natural healthy glow by addressing seasonal imbalances and creating rituals to enhance mental and physical well-being.\n\n\nWe will start the workshop by moving the body in a gentle restorative sequence facilitating lymphatic drainage to flush out the toxins\, balance and ground. After the physical part of the practice we’ll take a break where some refreshments will be offered to further support the self-care aspect of the workshop. The rest of the time will be dedicated to a guided step-by-step skin-care routine\, including cleansing and facial massage techniques\, using the products that I have specifically created for this season.\n\n\nAs a yoga teacher and a skincare specialist I believe that radiance doesn’t come in a pot. However a combination of mindful breath and movement\, clean diet and natural beauty products can work wonders\, helping us look and feel great.\n\n\nI started making my own skincare products many years ago because I wanted to make sure that everything I apply externally would literally be good enough to eat\, organic when possible\, all natural\, with minimal to no preservatives at all\,  using glass containers to reduce plastic waste. All formulations lean into the Ayurvedic principles of addressing seasonality and doshas\, using essential oils to make products work not only for the skin\, but also the nervous system. You can visit https://www.facebook.com/YHApothecary to find out more about the range.\n\n\nThe workshop is open to all genders\, but might not be suitable for those with extremely sensitive skin or allergies due to essential oils. All the necessary equipment will be provided\, but  please bring a towel and wear some comfortable clothes you don’t mind getting a little messy.\n\n\nExpect to leave with ethereally glowing skin\, feeling nourished\, grounded\, rejuvenated and held.\n\n\nBookings taken via our “Book Now” page\n£35
URL:https://pureyogacheshire.co.uk/event/autumnal-skin-care-ritual-workshop/
LOCATION:Pure Yoga Cheshire\, 29\, Charlotte Street\,\, Macclesfield\, England\, SK11 6JB\, United Kingdom
ATTACH;FMTTYPE=image/jpeg:https://pureyogacheshire.co.uk/wp-content/uploads/2021/10/Yuliya-Apothekary.jpeg
ORGANIZER;CN="Pure Yoga Cheshire":MAILTO:info@pureyogacheshire.co.uk
END:VEVENT
END:VCALENDAR