BEGIN:VCALENDAR
VERSION:2.0
PRODID:-//Pure Yoga Cheshire - ECPv6.14.0//NONSGML v1.0//EN
CALSCALE:GREGORIAN
METHOD:PUBLISH
X-WR-CALNAME:Pure Yoga Cheshire
X-ORIGINAL-URL:https://pureyogacheshire.co.uk
X-WR-CALDESC:Events for Pure Yoga Cheshire
REFRESH-INTERVAL;VALUE=DURATION:PT1H
X-Robots-Tag:noindex
X-PUBLISHED-TTL:PT1H
BEGIN:VTIMEZONE
TZID:UTC
BEGIN:STANDARD
TZOFFSETFROM:+0000
TZOFFSETTO:+0000
TZNAME:UTC
DTSTART:20210101T000000
END:STANDARD
END:VTIMEZONE
BEGIN:VEVENT
DTSTART;TZID=UTC:20210702T163000
DTEND;TZID=UTC:20210704T140000
DTSTAMP:20260423T190352
CREATED:20210317T140006Z
LAST-MODIFIED:20210627T134701Z
UID:7260-1625243400-1625407200@pureyogacheshire.co.uk
SUMMARY:Sea Side Yoga Retreat in Wales - July 2021
DESCRIPTION:You are invited to a very special Private Yoga retreat in beautiful Wales. \nFri 2nd to Sun 4th of July 2021 FULLY BOOKED. \n \nLocated near Hells Mouth\, welsh name PorthNeigwyl\, we will be staying in a lovely cottage overlooking this  wonderful 5 mile beach which attracts surfers from all over the world.  There is no vehicle access onto the beach itself which makes it totally private. It is a magnificent 5 minutes walk from the cottage to the sea and only 1.5 miles from the centre of Abersoch\, which makes the location perfect as we can enjoy all the amenities that the village has to offevr\, including coffee shops\, restaurants etc\, without getting the busyness of the town itself. \nWe will be practicing yoga in the cozy cottage or\, weather permitting\, on the patio overlooking the sea or on the beach itself. \nMore information about the cottage and accommodation: \n \n \n \nThe cottage is detached and enjoys an acre of garden where weather permitting we can do yoga here overlooking the sea or on the beach itself. It has many original features being over 200 years old in part\, and offers cozy accommodation with log fires for the evenings and wonderful views across the sea to Bardsey Island and beyond. The cottage is south facing so enjoys long hours of sunshine with a patio to be enjoyed. Once evening descends there are wonderful opportunities for star gazing when we have a clear sky. \nThere are two double rooms and one room with two single  beds. There are two bathrooms\, a cozy living room with fireplace and a large kitchen with dining area as well as a sun room for use throughout the retreat. Spaces are very limited\, so if interested please do get in touch and secure your spot as soon as possible! \n \nThe following is an example of the Yoga schedule for the weekend (times might change): \nArriving on the Friday afternoon: \nGrounding and Chill Out Yoga session at 6 pm\nLight supper at 7.30 pm \nSaturday: \nMeditation and Pranayama 7 to 8 am\nLight breakfast (fruit tea/coffee etc) 8.15 am\nAsana – physical Yoga practice 9.30 to 11 am \nBrunch 11:30 am \nAfternoon: Free time \nAsana and Pranayama 5.30 to 6.30 pm\nSupper 7 pm \nSunday: \nMeditation and Pranayama 7 to 8 am\nLight breakfast (fruit tea/coffee etc) 8.15 am\nAsana – physical Yoga practice 9.30 to 11 am \nBrunch 11.30 am \nCost: £ 395 per person for shared accommodation \nPlease contact us for bookings – we will pass on the bank details to pay the deposit of £150 to secure your spot as this will have to be paid to a different recipient. Email info@pureyogacheshire.co.uk
URL:https://pureyogacheshire.co.uk/event/sea-side-yoga-retreat-in-wales-july-2021/
ATTACH;FMTTYPE=image/jpeg:https://pureyogacheshire.co.uk/wp-content/uploads/2021/03/IMG-20210320-WA0015.jpg
ORGANIZER;CN="Pure Yoga Cheshire":MAILTO:info@pureyogacheshire.co.uk
END:VEVENT
BEGIN:VEVENT
DTSTART;TZID=UTC:20210718T173000
DTEND;TZID=UTC:20210718T193000
DTSTAMP:20260423T190352
CREATED:20210708T172925Z
LAST-MODIFIED:20210708T172925Z
UID:7378-1626629400-1626636600@pureyogacheshire.co.uk
SUMMARY:Sunday Evening Chill Out Yoga
DESCRIPTION:Sunday 18th of July 2021 – from 5.30 to 7.30\nTake time out to recharge\, restore\, regenerate and clear your mind…\nWhen was the last time you dedicated 2 full hours to yourself? \nA Sunday night treat where we will reflect\, recharge and relax… Join us at our studio where we are blessed with a quiet and beautiful space conducive to peace and tranquility. \nIn this special we will practice Yin Yoga and Restorative postures\, Pranayama and Meditation.  Culminating in a long and profound relaxation – some sound might also be introduced to resonate with our energy body…The perfect end to the weekend to restore your energies before the start of a new week. \nYin Yoga allows us to ground and to slow down\, balancing our busy lifestyle. You will be holding certain sitting postures for a little longer than usual and this will benefit your joints and your inner body\, calming both prana (upper body energy) and apana (lower body energy). It’s the ideal practice to ground and prepare the body and the mind to sitting meditation. \nRestorative postures are truly comfortable simple seated postures\, where the body rests over props like bolsters\, blocks and blankets. The quiet environment and beautiful setting is perfect for enhancing relaxation and wellbeing. \nPranayama is the actual essence of Yoga. Very simple breathing techniques to focus and calm the mind\, and to recharge the body’s vital energy. It is said that Prana (vital energy) dissipates through an overactive lifestyle\, so this is the perfect way to replenish your deep resources! \nContribution: £18\nAdvance booking only: pureyogacheshire.co.uk/timetable/
URL:https://pureyogacheshire.co.uk/event/sunday-evening-chill-out-yoga/
LOCATION:Pure Yoga Cheshire\, 29\, Charlotte Street\,\, Macclesfield\, England\, SK11 6JB\, United Kingdom
ATTACH;FMTTYPE=image/jpeg:https://pureyogacheshire.co.uk/wp-content/uploads/2021/07/pure-yoga-upstairs-2.jpg
ORGANIZER;CN="Pure Yoga Cheshire":MAILTO:info@pureyogacheshire.co.uk
END:VEVENT
END:VCALENDAR