BEGIN:VCALENDAR
VERSION:2.0
PRODID:-//Pure Yoga Cheshire - ECPv6.14.0//NONSGML v1.0//EN
CALSCALE:GREGORIAN
METHOD:PUBLISH
X-ORIGINAL-URL:https://pureyogacheshire.co.uk
X-WR-CALDESC:Events for Pure Yoga Cheshire
REFRESH-INTERVAL;VALUE=DURATION:PT1H
X-Robots-Tag:noindex
X-PUBLISHED-TTL:PT1H
BEGIN:VTIMEZONE
TZID:UTC
BEGIN:STANDARD
TZOFFSETFROM:+0000
TZOFFSETTO:+0000
TZNAME:UTC
DTSTART:20200101T000000
END:STANDARD
END:VTIMEZONE
BEGIN:VEVENT
DTSTART;TZID=UTC:20201018T160000
DTEND;TZID=UTC:20201018T180000
DTSTAMP:20260424T083922
CREATED:20201007T111639Z
LAST-MODIFIED:20201008T142831Z
UID:7190-1603036800-1603044000@pureyogacheshire.co.uk
SUMMARY:Sunday Evening Chill Out Yoga with Andrew and Francesca
DESCRIPTION:Chill Out Yoga on Sunday evening is back!\nSunday 18th October 2020 – from 4 to 6 pm. Bookings now taken via our timetable: Book Now\nCome and enjoy some well needed “me” time in our soothing and welcoming room downstairs at Pure Yoga\, as Andrew and Francesca join forces to give you an extra relaxing experience… \nRelease tension\, soothe our nervous system\, manage our well-being and hold each other in space as we transition in the colder months (social distancing observed). \nWe will begin with grounding standing poses and chest openers to build strength and release tension\, all with Andrew’s gentle and soothing guidance. Finding the way into the breath and the body\, returning to the true meaning of Yoga as union. \nMoving onto restorative postures and yin yoga\, culminating in a long and profound relaxation. Sound might also be introduced to resonate with our energy body…The perfect end to the weekend to restore your energies before the start of a new week. \nYin Yoga allows us to ground and to slow down\, balancing our busy lifestyle. You will be holding certain sitting postures for a little longer than usual and this will benefit your joints and your inner body\, calming both prana (upper body energy) and apana (lower body energy). It’s the ideal practice to ground and prepare the body and the mind to sitting meditation. \nRestorative postures are truly comfortable simple seated postures\, where the body rests over props like bolsters\, blocks and blankets. The quiet environment and beautiful setting is perfect for enhancing relaxation and wellbeing. Feel free to bring your own props\, or use our own sanitized and quarantined ones. \nPranayama is the actual essence of Yoga. Very simple breathing techniques to focus and calm the mind\, and to recharge the body’s vital energy. It is said that Prana (vital energy) dissipates through an over active mind\, so this is the perfect way to replenish your deep resources. \nSpace are very limited due to social distancing guidelines.\nIn case of no show we will have to charge the full amount.\nCancellation allowed until 2 days before the event.\nPlease bring your own props where possible.\nThis event will also be available on our Facebook Group Pure Yoga Live Sangha \n£16 – book via our Timetable
URL:https://pureyogacheshire.co.uk/event/sunday-evening-chill-out-yoga-with-andrew-and-francesca/
LOCATION:Pure Yoga Cheshire\, 29\, Charlotte Street\,\, Macclesfield\, England\, SK11 6JB\, United Kingdom
ATTACH;FMTTYPE=image/jpeg:https://pureyogacheshire.co.uk/wp-content/uploads/2020/07/028-scaled-N7t8UW.tmp_.jpg
ORGANIZER;CN="Pure Yoga Cheshire":MAILTO:info@pureyogacheshire.co.uk
END:VEVENT
END:VCALENDAR