BEGIN:VCALENDAR
VERSION:2.0
PRODID:-//Pure Yoga Cheshire - ECPv6.14.0//NONSGML v1.0//EN
CALSCALE:GREGORIAN
METHOD:PUBLISH
X-WR-CALNAME:Pure Yoga Cheshire
X-ORIGINAL-URL:https://pureyogacheshire.co.uk
X-WR-CALDESC:Events for Pure Yoga Cheshire
REFRESH-INTERVAL;VALUE=DURATION:PT1H
X-Robots-Tag:noindex
X-PUBLISHED-TTL:PT1H
BEGIN:VTIMEZONE
TZID:UTC
BEGIN:STANDARD
TZOFFSETFROM:+0000
TZOFFSETTO:+0000
TZNAME:UTC
DTSTART:20200101T000000
END:STANDARD
END:VTIMEZONE
BEGIN:VEVENT
DTSTART;TZID=UTC:20200306T170700
DTEND;TZID=UTC:20200306T170700
DTSTAMP:20260424T192948
CREATED:20200712T165715Z
LAST-MODIFIED:20200712T165715Z
UID:6761-1583514420-1583514420@pureyogacheshire.co.uk
SUMMARY:*Past event* Kirtan with Jim Fox
DESCRIPTION:We are very excited to host Jim Fox for the very first time in Cheshire\, join us for an evening of uplifting chants! \n\n\n\nFriday 6th of March 2020 from 7.30 to 9.30 pm.  \n\n\n\n£12 – either drop in and pay cash at the door\, or secure your spot by paying via bank transfer. \n\n\n\nBank details:  Pure Yoga Cheshire\, Sort Code 089299 – Account number 69775596.   \n\n\n\nHaving been a professional musician for many years\,  performing at venues and festivals throughout the UK and Scandinavia\, Jim now focuses on sharing Kirtan sessions around the UK and at various Bhakti events including Beltane Bhakti Gathering\, Sundara and Santosa.  \n\n\n\n In 2018 he released a live double CD\, “Namaste”\, the profits of which go to support the work of Skanda Vale Hospice in West Wales. Jim is also the author of three books\, his latest\, “The End is Insight”\, being an account of his “karmic life journey” that has brought him to his immersion into Bhakti Yoga. He is currently working on his next book\, which look at what it really means to practice Bhakti Yoga. \n\n\n\n Jim is looking forward to visiting Pure Yoga Cheshire to share Kirtan in March. \n\n\n\nPay in advance via bank transfer:  Pure Yoga Cheshire\, Sort Code 089299 – Account number 69775596.  \n\n\n\n “Bhakti Yoga is not just something that we do\, it is like breathing\, it is our life”.
URL:https://pureyogacheshire.co.uk/event/past-event-kirtan-with-jim-fox/
END:VEVENT
BEGIN:VEVENT
DTSTART;TZID=UTC:20200315T122800
DTEND;TZID=UTC:20200315T122800
DTSTAMP:20260424T192948
CREATED:20200712T165715Z
LAST-MODIFIED:20200712T165715Z
UID:6760-1584275280-1584275280@pureyogacheshire.co.uk
SUMMARY:Past Event: Deep Cleansing Kundalini Yoga Workshop with Jenni Kaur
DESCRIPTION:Sunday 15th of March 2020 – From 1 to 4 pm – £30\n\nMarch is the perfect time to cleanse the body and the mind as we prepare for regeneration and renewal that the Springtime brings.  \n\n\n\nShake those cobwebs off energetically and physically as we start to tip toe into the season of Manifestation\, Creativity and Inspiration.  \n\n\n\nJoin this Kundalini Yoga Workshop to clean out the waste in the liver that builds up over the Winter. Clean the mind of thought patterns that aren’t serving your highest purpose. Refresh yourself for new growth and incoming inspiration!  \n\n\n\n“Springtime is when new blood starts coming in. It’s a good time to cleanse.” –Yogi Bhajan  \n\n\n\nKundalini Yoga is practical and powerful. It works quickly to open up the body\, keep the mind calm and to be able to move through life with acceptance and ease. \n\n\n\nYou learn techniques to elevate yourself\, shed old baggage and reduce stress in your life. You do not need any experience of yoga or meditation and it is open to everyone. \n\n\n\nSecure your mat for this popular workshop\, contact us on info@pureyogacheshire.co.uk and pay via bank transfer\, bank details as follow: \n\n\n\nBank details:\n\nPure Yoga Cheshire\nCo-operative Bank\nSort Code 089299\nAccount number 69775596
URL:https://pureyogacheshire.co.uk/event/past-event-deep-cleansing-kundalini-yoga-workshop-with-jenni-kaur/
END:VEVENT
BEGIN:VEVENT
DTSTART;TZID=UTC:20200319T150500
DTEND;TZID=UTC:20200319T150500
DTSTAMP:20260424T192948
CREATED:20200712T165715Z
LAST-MODIFIED:20200712T165715Z
UID:6759-1584630300-1584630300@pureyogacheshire.co.uk
SUMMARY:Postponed * Early Morning Vinyasa Flow Yoga
DESCRIPTION:Early Morning Vinyasa Flow with Chloe Domville. Every Thursday Morning from 6.30 to 7.30 am.\nSet yourself up for the day by getting out of your head\, into your body & connecting to breath with a powerful\, energizing Vinyasa flow. \nChloe Domville is a local girl\, raised here in Macclesfield. Recently qualified at The House of Yoga in London where she trained for her  200 hours yoga teaching. She is very much looking forward to sharing an energising practice with us all! \nDrop in £7.50 to be paid at the door – cash or bank transfer only
URL:https://pureyogacheshire.co.uk/event/postponed-early-morning-vinyasa-flow-yoga/
END:VEVENT
BEGIN:VEVENT
DTSTART;TZID=UTC:20200319T204800
DTEND;TZID=UTC:20200319T204800
DTSTAMP:20260424T192948
CREATED:20200712T165714Z
LAST-MODIFIED:20200712T165714Z
UID:6758-1584650880-1584650880@pureyogacheshire.co.uk
SUMMARY:Pure Yoga goes "Live" on Facebook and Zoom
DESCRIPTION:Now that the studio in Macclesfield is temporarily closed\, we are absolutely thrilled that we can still share yoga with you from 2 virtual platforms: \n\n\n\nThrough our Facebook group Pure Yoga Cheshire Live Classes – where you can pay for classes via Bank Transfer. \n\n\n\nVia Zoom Rooms through our booking system Bookwhen Pure Yoga – where you can pay for the class either by bank transfer or via PayPay. \n\n\n\nBoth platforms share LIVE yoga classes\, streamed directly for you to enjoy from our home to yours. \n\n\n\nYou need to be added to our group on Facebook in order to enjoy the classes. \n\n\n\nYou don’t need to be on social media to book a class via Bookwhen. \n\n\n\nHow to contribute for classes shared via our Facebook group:  \n\n\n\n£5 suggested donation per class taken – if you feel you got more (or less) from the session you can make donation accordingly\, also if you are struggling financially (as we are). \n\n\n\n£20 suggested donation per week of classes – this works well for those who will join us for 4 or more classes\, and it will help you to motivate you to practice your yoga! \n\n\n\nThere are at least 2 or 3 yoga classes shared from Monday to Friday\, and at least one yoga class at weekend \n\n\n\nWe will be able to see who attends classes and we will be able to say hi to each other\, you can also leave comments\, questions and communicate with us in real time. The bank details where you can make the donations are: \n\n\n\nPure Yoga Cheshire – Sort Code: 089299 – Account Number 69775596 \n\n\n\nYou can just send us a quick message to let us know that you have paid. \n\n\n\nThank you very much\, from the bottom of our heart!
URL:https://pureyogacheshire.co.uk/event/pure-yoga-goes-live-on-facebook-and-zoom/
END:VEVENT
BEGIN:VEVENT
DTSTART;TZID=UTC:20200320T142400
DTEND;TZID=UTC:20200320T142400
DTSTAMP:20260424T192948
CREATED:20200712T165714Z
LAST-MODIFIED:20200712T165714Z
UID:6757-1584714240-1584714240@pureyogacheshire.co.uk
SUMMARY:Pure Yoga Studio in Macclesfield is closed for the time being.
DESCRIPTION:We had the best intention to carry on our classes and stay open at the yoga studio in Macclesfied for as long as we could\, but the time has come and we have to shut our doors – only temporarily of course\, business will resume as soon as the situation returns to normality. \n\n\n\nOur honest experience of teaching classes recently was that when anyone sniffed or coughed (which is perfectly usual under normal circumstances)\,  it created a tense atmosphere. Some people even feeling the need to justify why they were coughing. We stayed open not out of financial gain\, but to provide a tranquil space. When the environment in which we teach yoga isn’t calm and relaxed then it ‘s not an ideal platform from which to share and practice yoga.  \n\n\n\nSo it is with a heavy heart we are writing this to say Pure Yoga Cheshire will be closed for the foreseeable future in it’s present form. However\, Myself (Andrew) and Francesca have got 9 years experience of teaching online yoga and so we look forwards to sharing what we do on line in the form of classes and private one to one sessions. \n\n\n\nWe never set up Pure Yoga as a business minded venture\, it was born out of our love for yoga (and the love Fran and I share for each other!). Stay safe and well\, all things are transient and will pass\, including all of this today. See you online and back at the studio in (hopefully) the not too far future.Love to you all.  \n\n\n\nAndrew and Francesca x
URL:https://pureyogacheshire.co.uk/event/pure-yoga-studio-in-macclesfield-is-closed-for-the-time-being/
END:VEVENT
BEGIN:VEVENT
DTSTART;TZID=UTC:20200325T142100
DTEND;TZID=UTC:20200325T142100
DTSTAMP:20260424T192948
CREATED:20200712T165713Z
LAST-MODIFIED:20200712T165713Z
UID:6756-1585146060-1585146060@pureyogacheshire.co.uk
SUMMARY:Postponed * Slings / Trapeze Yoga in Macclesfield
DESCRIPTION: *Strictly booking only class\, contact us to book: phone 07909 144 414  or email info@pureyogacheshire.co.uk*\nFull payment required to secure your booking\nWe are proud to be one of the very few places to offer YOGA SLINGS in the North of England! Be upside down with confidence and ease\, and have fun along the way. A unique opportunity to practice yoga without the pull of gravity – some of the benefits of practising with slings: \n\nbuild up core strength\nrelease stress from the joints\nlengthen and ease the spine\nbe upside down without adding stress on the neck and shoulders area\ndeeply relax\n\nAndrew will guide you safely and easily into a yoga sequence that will be based on the use of the sling and will include inverted postures\, chest opening\, strength building and also a gorgeous “suspended” long relaxation. This class is suitable for those who have practiced some yoga. \n£12 for drop in session – Unlimited class pass holders £ 9  – 10 class pass holders £5 (plus a stamp on their card). \nBookings for private groups also being taken\, inquiries are welcome. \nPayment by Bank transfer is welcome: Pure Yoga Cheshire\nCo-operative Bank\nSort Code 089299\nAccount number 69775596
URL:https://pureyogacheshire.co.uk/event/postponed-slings-trapeze-yoga-in-macclesfield/
ATTACH;FMTTYPE=image/jpeg:https://pureyogacheshire.co.uk/wp-content/uploads/2014/03/yoga-slings-2.jpg
END:VEVENT
BEGIN:VEVENT
DTSTART;TZID=UTC:20200325T170500
DTEND;TZID=UTC:20200325T170500
DTSTAMP:20260424T192948
CREATED:20200712T165713Z
LAST-MODIFIED:20200712T165713Z
UID:6755-1585155900-1585155900@pureyogacheshire.co.uk
SUMMARY:Pregnancy Yoga Live on Zoom
DESCRIPTION:Join Francesca’s weekly Pregnancy Yoga class on Wednesday at 6.30 pm from the comfort of your home!\n\n\n\nBook your Zoom class with us via our booking system: \n\n\n\nBookWhen Pure Yoga Cheshire and South West  \n\n\n\nPrenatal yoga that is intimate\, friendly\, joyful and supportive for your body/mind/spirit during the most special time in your life. We provide a safe and nurturing environment\, helping you to connect with your changing body and to feel calm and grounded. All equipment (yoga bolsters\, blankets\, chairs\, cushions\,  blocks etc…) is provided in our beautiful dedicated Yoga Studio. \n\n\n\nWe practice effective breathing and relaxation techniques to invite calm\, and yoga postures to manage common physical ailments. Yoga in pregnancy is an invaluable tool to connect with your baby and to prepare for their arrival. Here’s some of the benefits: \n\n\n\nconnect with your inner wisdom to build confidence and to support you during labor and birthhelp to keep the body supple without strainingboost energyhelp to relieve stress and anxietyrelax and promote restful sleephelp to relieve pain in labor and childbirthhelp to relieve common minor ailments during pregnancy (e.g. swollen joints\, heartburn\, constipation)help the expectant mother to bond with the unborn baby through breathing and visualisation techniques.\n\n\n\nOpen to all level of pregnancy. Francesca is a qualified Pregnancy Yoga teacher\, she trained with Yoga Campus in 2012 and has been teaching prenatal yoga since. \n\n\n\nDonation of £5 accepted for our Online classes\, payable via bank transfer:  Pure Yoga Cheshire – Sort Code: 089299 – Account Number 69775596  \n\n\n\nCost for Pregnancy Yoga at our studio in Macclesfield: £48 (cash or bank transfer – no card payment facility at the studio) for 6 classes to be taken within 8 weeks. Drop in rate once you have passed your 33rd week: £10 per session.
URL:https://pureyogacheshire.co.uk/event/pregnancy-yoga-live-on-zoom/
END:VEVENT
BEGIN:VEVENT
DTSTART;TZID=UTC:20200327T172100
DTEND;TZID=UTC:20200327T172100
DTSTAMP:20260424T192948
CREATED:20200712T165713Z
LAST-MODIFIED:20200712T165713Z
UID:6754-1585329660-1585329660@pureyogacheshire.co.uk
SUMMARY:*Postponed* Kirtan with Tim Chalice
DESCRIPTION:We are postponing this event due to the current situation. Please stay in touch for future dates.\n\n\n\nTim returns to Macclesfield\, accompanied by Damien Mahoney on percussions\, for a beautiful evening of devotional chants.  \n\n\n\nBy repeating simple mantras Kirtan is an effortless and very accessible way to experience some freedom from the endless chatter of the mind\, revealing a graceful state of being and inner peace. \n\n\n\nThe moment we begin to chant there is a feeling of letting go\, a deepening of the breath and a sense of coming home. We can let go of the doership and simply be in the present. As we immerse ourselves in these repetitive sounds our thoughts begin to recede and when the chants end\, we can bathe in the silence that remains. It is a beautiful\, simple practice. Feelings of fear\, anger and separation are gently transformed into feelings of love\, compassion and Oneness. \n\n\n\nKirtan is for everyone. No prior experience of chanting is necessary to gain the many benefits it has to offer\, simply an openness to what may occur. Whether you wish to still your mind\, awaken your heart\, de-stress or simply enjoy singing with others kirtan is for you!\n\nTim is a regular at UK Bhakti Festivals and yoga gatherings and in 2012 released kirtan CD\, Devotional Heart\, produced by Tabla Tom. The follow-up ‘Give It All Away For Love’ was released in 2016. \n\n\n\n\n\n\n\n\n \n“Tim is a dedicated pilgrim of prayerful chant and song. His devotional heart sound and meditative mantras\, penetrate your mind\, inspire participation\, and awaken your heart.” – Chloe Goodchild – Singer\, Author “The Naked Voice”.\n \n \n“Tim Chalice is a chanter for the people. His heartfelt tones inspire an immediate sense of coming together and an earthy spirit. Tim is highly original in his approach and you just want to join in at once as he wholeheartedly draws you in to the chant!” – Nikki Slade\, Free the Inner Voice\n \n\n \n\n\n\nFor more information about Tim visit  http://www.timchalice.com/ . \n\n\n\nHis CDs Give It All Away For Love\, Devotional Heart & Planting Peace will be available to buy. \n\n\n\nAdvance payment accepted via cash\, cheque or bank transfer: \n\n\n\nPure Yoga Cheshire\, Sort Code 089299 – Account number 69775596.  \n\n\n\nPlease confirm your attendance and payment with an email.
URL:https://pureyogacheshire.co.uk/event/postponed-kirtan-with-tim-chalice/
END:VEVENT
END:VCALENDAR