BEGIN:VCALENDAR
VERSION:2.0
PRODID:-//Pure Yoga Cheshire - ECPv6.14.0//NONSGML v1.0//EN
CALSCALE:GREGORIAN
METHOD:PUBLISH
X-WR-CALNAME:Pure Yoga Cheshire
X-ORIGINAL-URL:https://pureyogacheshire.co.uk
X-WR-CALDESC:Events for Pure Yoga Cheshire
REFRESH-INTERVAL;VALUE=DURATION:PT1H
X-Robots-Tag:noindex
X-PUBLISHED-TTL:PT1H
BEGIN:VTIMEZONE
TZID:UTC
BEGIN:STANDARD
TZOFFSETFROM:+0000
TZOFFSETTO:+0000
TZNAME:UTC
DTSTART:20190101T000000
END:STANDARD
END:VTIMEZONE
BEGIN:VEVENT
DTSTART;TZID=UTC:20191208T134000
DTEND;TZID=UTC:20191208T134000
DTSTAMP:20260425T001005
CREATED:20200712T165716Z
LAST-MODIFIED:20200712T165716Z
UID:6766-1575812400-1575812400@pureyogacheshire.co.uk
SUMMARY:Past Event - YIN YANG Yoga Workshop in Glastonbury
DESCRIPTION:Goddess House\, 28 Magdalene St\, Glastonbury BA6 9EJ\nSunday 8th of December 2019 from 10.30 am to 1 pm\nJoin Andrew and Francesca for a practice of Yin/Yang Yoga with strong asana (yoga postures)\, still yin yoga\, Pranayama and Meditation. \nThis yoga special is suitable for all\, those just starting on their yoga journey and those who want to be challenged. We will practice standing poses\, inversions and stilling yin yoga postures to calm the nervous system. We will break down some of the more engaging postures so there will be options to be practised by all. \nThe opportunity might reveal itself to introduce some Mantra chanting. There will be a little time for questions and answers\, introducing some of the physical and philosophical aspects of yoga. \nStrong and gentle practices\, traditional pranayama and stillness. \nThe cost is £20. \nDeposit required to secure your spot payable via bank transfer or pay pal. \nPure Yoga Cheshire\nCo-operative Bank\nSort Code 089299\nAccount number 69775596
URL:https://pureyogacheshire.co.uk/event/past-event-yin-yang-yoga-workshop-in-glastonbury/
END:VEVENT
BEGIN:VEVENT
DTSTART;TZID=UTC:20191222T151800
DTEND;TZID=UTC:20191222T151800
DTSTAMP:20260425T001005
CREATED:20200712T165716Z
LAST-MODIFIED:20200712T165716Z
UID:6765-1577027880-1577027880@pureyogacheshire.co.uk
SUMMARY:Christmas 2019 Timetable at Pure Yoga
DESCRIPTION:Delight with Yoga this Yule time\, practice with us all the way through the Festive Season!\nRegular yoga classes are on as between Christmas and New year with a slightly reduced timetable.\nWe are closed on 25th and 26th December and 1st of January.\nThis is the list of scheduled classes\, timetable will be up to date:\nSunday 22nd December: 10.30 to 11.45 am Sunday Morning Yoga with Ali – 5 to 7 pm Sunday Meditation and Dru Yoga with Ann (more information on our events page) \nMonday 23rd December: 10 to 11.30 am Vinyasa Yoga with Hazel – Extra 15 minutes of Relaxation and Sound! \nTuesday 24th December: 10 to 11.30 am Dru Yoga with Ann \nChristmas Day and Boxing Day: CLOSED – Happy Yule to All! \nFriday 27th of December : 10:00 to 11.15 am Yoga for All with Andrew –   5.30 to 6.45 pm Yin Yoga and Meditation with Andrew \nSaturday 28th of December : 10 to 11.15 am Yoga for All with Francesca \nSaturday 28th from 1.30 to 3.30 pm: Yule-tide Yoga with Andrew Wrenn\, more information on our website page \nSunday 29th of December: 10. 30 to 11.45 am Yoga for All with Francesca \nMonday 30th of December: 10 to 11.15 am Vinyasa Yoga with Francesca  – 6 to 7.15 pm Yoga for All with Andrew \nTuesday 31st of December: 10 to 11.30 am Dru Yoga with Ann \nWednesday 1st of January 2020: CLOSED – Happy New Year! \nThursday 2nd December: 10 am Yoga for All with Ann\, 5.45 – 6.45 pm Restorative Yoga with Andrew\, 7 pm Intermediate Hatha Yoga with Andrew. \nAll classes as usual in 2020 – New and exciting classes and events coming soon!
URL:https://pureyogacheshire.co.uk/event/christmas-2019-timetable-at-pure-yoga/
END:VEVENT
BEGIN:VEVENT
DTSTART;TZID=UTC:20191228T130700
DTEND;TZID=UTC:20191228T130700
DTSTAMP:20260425T001005
CREATED:20200712T165716Z
LAST-MODIFIED:20200712T165716Z
UID:6764-1577538420-1577538420@pureyogacheshire.co.uk
SUMMARY:Past Event: Yule-tide Yoga with Andrew Wrenn
DESCRIPTION:Join Andrew on this special practice on Saturday 28th December 2019 from 1.30 to 3.30 pm – booking recommended as only a few spots available. \n\n\n\nReawaken your Yoga practice after the merriment of Yule-tide! \n\n\n\nAwaken to yourself embracing and welcoming the changes brought in with the New Year whilst leaving behind anything that doesn’t serve you anymore… \n\n\n\nWe will practice Asana with Backbends and inversions which are considered a boost for our mental and physical wellbeing\, they are said to benefit the immune system\, to give mental clarity whilst viewing yourself and the world from a different prospective… \n\n\n\nWe will practice Pranayama\, Meditation and we will finish with a long relaxation. \n\n\n\nCost £18  \n\n\n\nBooking recommended for this busy event\, advance payment required with cash\, cheque or bank transfer. Bank details: Pure yoga Cheshire – sort code 089299 – Account Number 69775596
URL:https://pureyogacheshire.co.uk/event/past-event-yule-tide-yoga-with-andrew-wrenn/
END:VEVENT
END:VCALENDAR