BEGIN:VCALENDAR
VERSION:2.0
PRODID:-//Pure Yoga Cheshire - ECPv6.14.0//NONSGML v1.0//EN
CALSCALE:GREGORIAN
METHOD:PUBLISH
X-ORIGINAL-URL:https://pureyogacheshire.co.uk
X-WR-CALDESC:Events for Pure Yoga Cheshire
REFRESH-INTERVAL;VALUE=DURATION:PT1H
X-Robots-Tag:noindex
X-PUBLISHED-TTL:PT1H
BEGIN:VTIMEZONE
TZID:UTC
BEGIN:STANDARD
TZOFFSETFROM:+0000
TZOFFSETTO:+0000
TZNAME:UTC
DTSTART:20190101T000000
END:STANDARD
END:VTIMEZONE
BEGIN:VEVENT
DTSTART;TZID=UTC:20190419T140800
DTEND;TZID=UTC:20190419T140800
DTSTAMP:20260425T131000
CREATED:20200712T165719Z
LAST-MODIFIED:20200712T165719Z
UID:6779-1555682880-1555682880@pureyogacheshire.co.uk
SUMMARY:Easter Yoga Classes at Pure Yoga
DESCRIPTION:Pure Yoga is open this Easter – there are only a couple of exceptions to our busy weekly schedule:\nGood Friday 19th of April – all classes as usual: 10 am Hatha Yoga with Francesca – 5.30 pm Yin Yoga and Meditation with Francesca \nSaturday 20th of April: 10 am Hatha Yoga with Francesca \nSunday 21st of April: CLOSED – Happy Easter! \nMonday 22nd of April: Vinyasa Yoga with Hazel \nTuesday 23rd of April: 10 am Vinyasa Yoga with Linda – 10 am Dru Yoga with Ann – 6 pm Beginners Yoga with Ali – 7.45 pm Yin Yang Yoga with Ali \nWednesday 24th of April: All classes as usual
URL:https://pureyogacheshire.co.uk/event/easter-yoga-classes-at-pure-yoga/
END:VEVENT
END:VCALENDAR