BEGIN:VCALENDAR
VERSION:2.0
PRODID:-//Pure Yoga Cheshire - ECPv6.14.0//NONSGML v1.0//EN
CALSCALE:GREGORIAN
METHOD:PUBLISH
X-WR-CALNAME:Pure Yoga Cheshire
X-ORIGINAL-URL:https://pureyogacheshire.co.uk
X-WR-CALDESC:Events for Pure Yoga Cheshire
REFRESH-INTERVAL;VALUE=DURATION:PT1H
X-Robots-Tag:noindex
X-PUBLISHED-TTL:PT1H
BEGIN:VTIMEZONE
TZID:UTC
BEGIN:STANDARD
TZOFFSETFROM:+0000
TZOFFSETTO:+0000
TZNAME:UTC
DTSTART:20130101T000000
END:STANDARD
END:VTIMEZONE
BEGIN:VEVENT
DTSTART;TZID=UTC:20140511T103000
DTEND;TZID=UTC:20140511T103000
DTSTAMP:20260423T111554
CREATED:20200712T165755Z
LAST-MODIFIED:20200712T165755Z
UID:6893-1399804200-1399804200@pureyogacheshire.co.uk
SUMMARY:A Day of YogAsana and Meditation with Granville Cousins on Sunday 11th of May.
DESCRIPTION:Join Senior Yoga and Meditation Teacher Granville Cousins on Sunday 11th of May 2014 at Pure Yoga Cheshire.   \n\n\nWe are thrilled to host Granville again in this special event where he will share some of his immense knowledge of yoga. One of the most renowned and respected teachers in the North of England\, Granville has been teaching Yoga for over 20 years in Britain\, Ireland and internationally. We are very lucky to have him with us in Macclesfield.\nSunday morning\n10:30am to 12:30pm \nDuring this morning session Granville will be guiding you through a sequence of postures to bring freedom to the spinal column\, build strength\, stamina and co-ordination. These postures are mainly standing poses and are practiced in a particular way of stepping into and out of the postures. This particular method is designed to create less loading on the muscles and joints in the back and have proved to be very beneficial to those who enjoy a strong yoga practice but who may have developed some postural issues in this area. The morning session will conclude with inverted poses including Headstand and Shoulderstand.\nSunday afternoon\n13:30pm – 15:30pm \nFor the afternoon session we will be practicing a more gentle form of yogAsana postures. These are done in a more passive way and the asanas are held for a period of 3 to 5 minutes. We will be working on the Hip Series of postures which prepare the pelvic area and lower spine for sitting postures and meditation. There will be a guided meditation period with an opportunity to ask questions at the end of the session. \nCost is £35 for the whole day.  \nA deposit is required to secure your space\, please contact Pure Yoga on 07909 144 414 or email info@pureyogacheshire.co.uk. \nMore information about Granville: \nGranville teaches Yoga Classes and Workshops in the Manchester area. He has practiced yoga for over 40 years and studied with Yogacara Mr. B.K.S. Iyengar at the Ramamani Institute in Pune\, India\, and the late Derek Ireland at The Practice Place in Crete. He teaches yogAsana and Ashtanga Vinyasa Yoga Classes also on a private basis in Manchester and the Rochdale areas. Amongst his clients are sports oriented individuals and groups from the fields of Football\, Tennis\, Cricket\, Golf etc. He also leads Yoga Holidays and Workshops in such countries as Ireland\, Turkey\, Portugal\, Tobago\, Jamaica\, Sri Lanka and the Middle East \n 
URL:https://pureyogacheshire.co.uk/event/a-day-of-yogasana-and-meditation-with-granville-cousins-on-sunday-11th-of-may/
END:VEVENT
BEGIN:VEVENT
DTSTART;TZID=UTC:20131031T180000
DTEND;TZID=UTC:20131031T180000
DTSTAMP:20260423T111554
CREATED:20200712T165755Z
LAST-MODIFIED:20200712T165755Z
UID:6894-1383242400-1383242400@pureyogacheshire.co.uk
SUMMARY:Winter Yoga Retreat in Lanzarote with Andrew Wrenn
DESCRIPTION:Yoga in the Sun\, one week yoga retreat in Lanzarote from Thursday 31st of October to Thursday 7th of November 2013 \nA unique setting for a Yoga retreat aimed at personal transformation through your yoga practice in a wonderful natural\nenvironment. \nEnjoy the quiet location\, the superb views over the Ocean and the Volcanoes. A perfect place for deepening the practice of Asana\, Pranayama\, Mudra\, Bandha and Meditation. \nThis is an intimate retreat for the dedicated practitioner. \nLanzarote has fascinating landscape of volcanoes and gorgeous beaches. This week long retreat will allow some time to enjoy the amazing artistic displays and lovely markets as well as swims in the pristine clear waters of the Ocean. \nPlease contact us if interested\, very limited availability. \nPrice: £585 includes\nAccommodation in residential Villa overlooking the Ocean\, quiet location;\nFull board (except one dinner that will be taken at a local restaurant) with delicious home cooked vegetarian food;\nThree yoga classes a day (including Meditation – Pranayama early morning\, Asana late morning\, Asana and Pranayama in the evening).\nCar hire to be added to the cost once bookings have been finalized. \nA deposit of £200 is required to secure your booking.\nFB us or email info@pureyogacheshire.co.uk or phone us 07909 144 414
URL:https://pureyogacheshire.co.uk/event/winter-yoga-retreat-in-lanzarote-with-andrew-wrenn/
ATTACH;FMTTYPE=image/jpeg:https://pureyogacheshire.co.uk/wp-content/uploads/2020/07/078-scaled-2tKSir.tmp_.jpg
END:VEVENT
BEGIN:VEVENT
DTSTART;TZID=UTC:20130928T190000
DTEND;TZID=UTC:20130928T190000
DTSTAMP:20260423T111554
CREATED:20200712T165756Z
LAST-MODIFIED:20200712T165756Z
UID:6896-1380394800-1380394800@pureyogacheshire.co.uk
SUMMARY:Chanting and Meditation Event
DESCRIPTION:Chanting and Meditation\nSaturday 28th of September 2013 from 7 to 9.30 pm. \nJoin our alternative evening with uplifting chanting to open the heart and meditation to find stillness\, clarity and delight. This is one of our regular events and everybody is welcome\, no experience is needed. Enjoy being in our beautiful and welcoming studio and chant with us (if you like…) \nMinimum donation: £5 per person (including tea and biscuits).
URL:https://pureyogacheshire.co.uk/event/chanting-and-meditation-event/
ATTACH;FMTTYPE=image/jpeg:https://pureyogacheshire.co.uk/wp-content/uploads/2020/07/028-scaled-N7t8UW.tmp_.jpg
END:VEVENT
END:VCALENDAR