BEGIN:VCALENDAR
VERSION:2.0
PRODID:-//Pure Yoga Cheshire - ECPv6.14.0//NONSGML v1.0//EN
CALSCALE:GREGORIAN
METHOD:PUBLISH
X-ORIGINAL-URL:https://pureyogacheshire.co.uk
X-WR-CALDESC:Events for Pure Yoga Cheshire
REFRESH-INTERVAL;VALUE=DURATION:PT1H
X-Robots-Tag:noindex
X-PUBLISHED-TTL:PT1H
BEGIN:VTIMEZONE
TZID:UTC
BEGIN:STANDARD
TZOFFSETFROM:+0000
TZOFFSETTO:+0000
TZNAME:UTC
DTSTART:20220101T000000
END:STANDARD
END:VTIMEZONE
BEGIN:VEVENT
DTSTART;TZID=UTC:20221218T160000
DTEND;TZID=UTC:20221218T183000
DTSTAMP:20260422T223011
CREATED:20221110T202324Z
LAST-MODIFIED:20221127T203243Z
UID:7740-1671379200-1671388200@pureyogacheshire.co.uk
SUMMARY:Winter Solstice Women’s Circle with Cacao Ceremony & Sound Meditation
DESCRIPTION:As we approach the longest night\, Emma invites you to join in acknowledging that during the darkest time there is always light to come… \nYou are invited to join me in Ceremony with Cacao to celebrate the Winter Solstice… \nTogether we will share being in community whilst connecting with & drinking this ancient sacred plant medicine. \nWith the supportive and heart-centred medicine of Cacao\, you are invited to share time held in sacred space so your deepest truths can be explored. \nThere will be some Winter Solstice themed activities before you will then be invited to surrender & receive the deeply healing vibrations of a Therapeutic Sound Meditation to relax \, restore & rebalance you. \nFor full details & to secure your self some time in rest\, reflection & like minded community please follow the below link: \nWinter Solstice Cacao Ceremony \n 
URL:https://pureyogacheshire.co.uk/event/winter-solstice-cacao-ceremony-and-therapeutic-sound-meditation/
LOCATION:Pure Yoga Cheshire\, 29\, Charlotte Street\,\, Macclesfield\, England\, SK11 6JB\, United Kingdom
CATEGORIES:Workshops
ATTACH;FMTTYPE=image/jpeg:https://pureyogacheshire.co.uk/wp-content/uploads/2022/11/Cacao-ceremony-Dec-22.jpg
END:VEVENT
BEGIN:VEVENT
DTSTART;TZID=UTC:20221223T100000
DTEND;TZID=UTC:20221223T233000
DTSTAMP:20260422T223011
CREATED:20221207T152056Z
LAST-MODIFIED:20221207T152056Z
UID:7755-1671789600-1671838200@pureyogacheshire.co.uk
SUMMARY:Yule Yoga Winter Gathering
DESCRIPTION:A magical Festive Yoga Special with Andrew at Pure Yoga\, all welcome!\nWe celebrate Yule and Winter Solstice with a get together at this special time of the year. \nExpect seasonal yoga practices of Asana\, Pranayama and Meditation. A joyful chance to get together during this busy time\, a time for stillness and rejuvenation. \nBook via our timetable or pay on the door – £12
URL:https://pureyogacheshire.co.uk/event/yule-yoga-winter-gathering/
LOCATION:Pure Yoga Cheshire\, 29\, Charlotte Street\,\, Macclesfield\, England\, SK11 6JB\, United Kingdom
ATTACH;FMTTYPE=image/jpeg:https://pureyogacheshire.co.uk/wp-content/uploads/2022/12/Andrew-snow.jpg
ORGANIZER;CN="Pure Yoga Cheshire":MAILTO:info@pureyogacheshire.co.uk
END:VEVENT
BEGIN:VEVENT
DTSTART;TZID=UTC:20230106T190000
DTEND;TZID=UTC:20230106T210000
DTSTAMP:20260422T223011
CREATED:20221110T201222Z
LAST-MODIFIED:20221110T201244Z
UID:7736-1673031600-1673038800@pureyogacheshire.co.uk
SUMMARY:The Bhakti Brothers - Live Sacred Music
DESCRIPTION:A night of live sacred music\, singing\, dancing and connection.\nThe Bhakti Brothers warmly invite you to a magical evening of mantra. Three brothers\, multiple instruments. Songs from 5 continents and a room full of open hearted people.\n\nJoin us for a night of connection and peace. We’ll be singing sacred music from around the world together. Singing in a group is such a precious practice.\nExpect to move\, sing\, dance or remain silent and safe in a warmly held space.\n\n£16 – book now via https://pureyogacheshire.co.uk/timetable/
URL:https://pureyogacheshire.co.uk/event/the-bhakti-brothers-live-sacred-music/
LOCATION:Pure Yoga Cheshire\, 29\, Charlotte Street\,\, Macclesfield\, England\, SK11 6JB\, United Kingdom
CATEGORIES:Workshops
ATTACH;FMTTYPE=image/jpeg:https://pureyogacheshire.co.uk/wp-content/uploads/2022/11/Bhakti-Brothers-2.jpg
END:VEVENT
BEGIN:VEVENT
DTSTART;TZID=UTC:20230128T093000
DTEND;TZID=UTC:20230128T093000
DTSTAMP:20260422T223011
CREATED:20230109T194935Z
LAST-MODIFIED:20230109T194935Z
UID:7768-1674898200-1674898200@pureyogacheshire.co.uk
SUMMARY:Pure Yoga Retreat Day
DESCRIPTION:*YOGA DAY RETREAT with Andrew and Francesca * \nIn the beautiful surroundings of Shrigley Hall\, we welcome you to join us in a delightful practice of Yoga as it is. \n9.30 am to 12.30 pm – Morning practice: we will begin with some sitting and pranayama\, moving onto some Asana. We recommend you have a light breakfast at least one and half hour before the event. \n12.30 to 3 pm – lunch break – enjoy a lovely treat with lunch at the Hotel\, and if weather allows go for a gentle walk in the afternoon. \n3 to 5 pm – Afternoon practice with Andrew’s exploration of the roots of Yoga and Francesca’s Yin yoga practice to integrate the practices and to gently move on to the rest of our day. \nThis is an event open to all.\nPlease bring your yoga mat (if you have one) a cushion and a blanket. \n£65 for the yoga day (lunch not included) The hotel has a lovely restaurant and there is the option to take our lunch there. \nPlease pay cash to us or via bank transfer: Pure Yoga Cheshire – Sort Code 089299 Account number 69775596.
URL:https://pureyogacheshire.co.uk/event/pure-yoga-retreat-day/
LOCATION:Shrigley Hall\, Shrigley Park\, Pott Shrigley\, Macclesfield\, Cheshire\, SK105SB\, United Kingdom
ATTACH;FMTTYPE=image/jpeg:https://pureyogacheshire.co.uk/wp-content/uploads/2023/01/Pure-Yoga.jpg
ORGANIZER;CN="Pure Yoga Cheshire":MAILTO:info@pureyogacheshire.co.uk
END:VEVENT
BEGIN:VEVENT
DTSTART;VALUE=DATE:20230420
DTEND;VALUE=DATE:20230424
DTSTAMP:20260422T223011
CREATED:20200712T165708Z
LAST-MODIFIED:20221019T142819Z
UID:6747-1681948800-1682294399@pureyogacheshire.co.uk
SUMMARY:Spring Yoga Retreat in Scotland
DESCRIPTION:Experience serenity\, calm and restoration with Andrew’s annual Yoga retreat set in the grounds of  the oldest Buddhist Monastery in Europe. Andrew has run this retreat successfully for over 10 years. \nFrom Thursday 20th to Sunday 23rd of April 2023 \n\n\n \n\n\n\n\n \n\n\n\nLooking out over the River Esk in the peaceful hills of the Scottish borders\, ‘Purelands’ at Samye Ling is an ideal setting to inspire\, exhilarate and offer time for reflection in our busy lives. The retreat offers asana\, pranayama\, meditation and mantra. There will be time and opportunity to walk around the meditation garden\, venture up the fairy hill or take a stroll along the river bank\, maybe catching a glimpse of the otters in the unspoiled natural surroundings. \nArriving on the Thursday evening and getting together for an early supper\, we will enjoy a relaxation/yoga nidra session to ground ourselves after travelling. \nEarly morning Meditation and Pranayama sessions on Friday\, Saturday and Sunday\, followed by a mid morning Asana (yoga postures) practice. Afternoon session including questions and answers\, Asana\, Pranayama quiet sitting on Friday and Saturday. Departure is after lunch on the Sunday. Silence time will be limited to every morning until after breakfast. \nFriends are also welcome to observe or participate in the meditations and puja performed in the very colorful traditional Tibetan Buddhist temple.  \nAll accommodation is in basic but comfortable single rooms with three home cooked vegetarian meals a day\, drinks available throughout the day. \n\n\n\n\n\n\n\n\n\n\n\n\n\nPrice £395 which includes all tuition\, a single room per person\, breakfast\, lunch and supper on Friday and Saturday\, supper on Thursday and breakfast and lunch on Sunday. The retreat offers fruit and hot drinks available throughout the day.  \n\n\n\nArrival time is flexible: anytime between 3 and 6 pm. Departure after lunch on the Sunday. \n\n\n\nBookings are now being taken\, £150 deposit (non refundable) secures place\, full payment by mid March 2023. \n\n\n\nPure Yoga Cheshire bank details: \n\n\n \nCo-operative Bank \n\n\n \nSort Code 089299 \n\n\n \nAccount number 69775596 \n\n\n\n\n\nThe monastery is about three and half hours drive from Manchester and Macclesfield.Car sharing may be available. \n\n\n\nAddress: Samye Ling Buddhist Monastery Eskdalemuir Langholm\,  Dumfriesshire\, Scotland \n\n\n\nNB this is a yoga retreat not a Buddhist retreat and is open to everyone from beginners to advanced students.
URL:https://pureyogacheshire.co.uk/event/weekend-yoga-retreat-in-scotland/
LOCATION:Kagyu Samye Ling Monastery\, Eskdalemuir\, Langholm\, DG13 0QL\, United Kingdom
CATEGORIES:Retreats
ATTACH;FMTTYPE=image/jpeg:https://pureyogacheshire.co.uk/wp-content/uploads/2020/07/20150612_175221.jpg
END:VEVENT
BEGIN:VEVENT
DTSTART;TZID=UTC:20231018T153000
DTEND;TZID=UTC:20231022T223000
DTSTAMP:20260422T223011
CREATED:20221103T183317Z
LAST-MODIFIED:20230113T170525Z
UID:7724-1697643000-1698013800@pureyogacheshire.co.uk
SUMMARY:Yoga Retreat in Cornwall
DESCRIPTION:A very special location for an exclusive Yoga retreat with Andrew.\nWelcome to magical Cornwall.\n\nThere is a maximum of 15 people allowed to stay at this secluded retreat\, where we will be able to explore the most exquisite forest\, and absorb the healing vibrations of the stunning waterfall at St Nectan’s Glen.\n\nSt Nectan’s kieve has been carved by the river Trevillet which weaves through the valley\, creating one of the most stunning waterfalls of its kind. With its spectacular outlet from which water spills into a shallow pool of crystal clear water\, before continuing its way to the glen below\, is truly mesmerising. Mosses\, fern and grasses adorn the fall\, fringing every rock with a native drapery of the most exquisite beauty. We will be able to dip into amazing crystal clear water to truly cleanse the body and the mind.\n\nThe Retreat is only accessible by foot via a magical woodland walk of about half hour. When arriving at the retreat\, we will have a collection point for your bags where staff from the retreat will be able to carry them for us via 4×4 vehicle.\n\nArrival on Wednesday afternoon\, departure on Sunday late morning.\n\nThere will be an evening practice and supper on Wednesday\, followed by 3 days of early morning pranayama and meditation practices\, and mid morning and late afternoon yoga asana. On Sunday we will enjoy the morning practices and breakfast before departing.\n\nDelicious vegetarian meals will be prepared by the onsite café and enjoyed at the comfortable retreat. There will be time to enjoy connecting with Nature and exploring the nearby towns and coast.\n\nThere are 3 twin rooms\, 1 triple room and 1 room that can accommodate up to 4 people. There is also the option of single accommodation.\nCost per person for sharing in triple or 4 beds room £705; Twin room £775; Single £1050. This is all inclusive: accommodation\, 3 delicious vegetarian/vegan meals a day\, yoga tuition and full access to the private woodlands and the magical waterfall.\n\nBookings is only secured with a non refundable £200 deposit. Please contact us for more information on info@pureyogacheshire.co.uk
URL:https://pureyogacheshire.co.uk/event/yoga-retreat-in-cornwall/
LOCATION:St Nectan’s Glen\, Tintagel
CATEGORIES:Retreats
ATTACH;FMTTYPE=image/jpeg:https://pureyogacheshire.co.uk/wp-content/uploads/2021/11/st-necta-glen3.jpg
ORGANIZER;CN="Pure Yoga Cheshire":MAILTO:info@pureyogacheshire.co.uk
END:VEVENT
BEGIN:VEVENT
DTSTART;TZID=UTC:20231208T150000
DTEND;TZID=UTC:20231210T140000
DTSTAMP:20260422T223011
CREATED:20230310T143320Z
LAST-MODIFIED:20230917T123342Z
UID:7799-1702047600-1702216800@pureyogacheshire.co.uk
SUMMARY:Yoga Weekend in Wales
DESCRIPTION:An exclusive and luxurious Yoga weekend in beautiful Wales with Andrew Wrenn.\n\nAndrew welcomes you to a new and beautiful retreat in Mynytho\, near Abersoch\, North Wales.\n\nWelcome to the beautiful detached property\, with ample gardens and breath-taking views over the sea.\nThe schedule is perfectly balanced to offer several classes a day and leaving enough time to explore local walks and local beaches. Deliciously home made vegetarian food is offered and the spacious yoga room is perfect to enjoy a rejuvenating practice.\n\nAn example of the schedule:\nFriday – arrival between 2 and 4 pm\n6.30 pm Light Supper\n8.30 pm Relaxed intro gathering and gentle evening yoga\n\nSaturday\n6.30 am Meditation and Pranayama\n8 am Breakfast\n10.30 am Asana Yoga practice – including Hatha Yoga and dynamic flow1 pm Lunch\n4.30pm Afternoon yoga with Pranayama\n7 pm Dinner\n\nSunday\n6.30 am Meditation and Pranayama\n8 am Breakfast\n10.30 am Yoga practice\n1 pm LunchDeparture from 2 pm \n\n\nNumbers are limited to a maximum of 6 participants. There are 2 ensuite rooms\, and 2 full bathrooms to share with 2 rooms.\nThis will be a time to press the reset button and take time away from our busy lives. The rejuvenating practice of yoga offers support to our daily lives\, and the beautiful location is perfect to explore this stunning area.\n\nThe cost for this luxurious retreat is £525 per person.\n\nPlease let us know if interested via email info@pureyogacheshire.co.uk\n\nYou will need to secure your spot by ONLY paying a deposit of £225 to our business bank account Pure Yoga Cheshire with the balance of £300 to be paid to a different account nearer the date.
URL:https://pureyogacheshire.co.uk/event/yoga-weekend-in-wales/
LOCATION:England
CATEGORIES:Retreats,Workshops
ATTACH;FMTTYPE=image/jpeg:https://pureyogacheshire.co.uk/wp-content/uploads/2023/03/Wales-retreat-new.jpg
END:VEVENT
BEGIN:VEVENT
DTSTART;TZID=UTC:20240115T150000
DTEND;TZID=UTC:20240122T150000
DTSTAMP:20260422T223011
CREATED:20230425T194031Z
LAST-MODIFIED:20260108T155258Z
UID:7809-1705330800-1705935600@pureyogacheshire.co.uk
SUMMARY:Yoga Retreat in North Goa - JANUARY 2024
DESCRIPTION:Mandrem\, North Goa – from 15th to 22nd of January 2024 – Nalanda Retreat.\nJoin Andrew and Francesca for an immersion in all the principle of Yoga tradition in the very birthplace of Yoga! \nEnjoy magical sunrises and sunsets by the Indian Ocean in North Goa\, a quiet and luxurious setting amongst a delightful garden. The beautiful\, clean and spacious Mandrem beach is only a few steps away. \nGift yourself to 3 yoga sessions a day including Meditation\, Pranayama and Asana. Plenty of time to explore the nearby markets\, visit local towns and simply enjoy lying down by the beautiful sandy beach of Mandrem. The retreat also has a swimming pool. Delicious vegetarian food offered in the delightful beach restaurant. \nThe retreat includes: accommodation\, breakfast and evening meal\, 3 yoga classes a day. \nCost per person in shared accommodation TBC. There is a single room option depending on availability at additional cost. Please inquire for availability. \nHow to get there: If possible\, we suggest you arrive a couple of days (or longer) before the retreat to acclimatize yourself to the country and the climate. A good option that has worked well for us in the past\, is to fly to Mumbai where you can spend a night\, and fly to Goa the following day. There are several direct flights from Heathrow to Mumbai and it’s very easy then to book a domestic flight to Goa. We can give you ideas of hotels and nice places to stay both in Mumbai and Goa. \nThere are only very few spaces for this retreat. Please email us for more information and how to pay a deposit on info@pureyogacheshire.co.uk\n \n 
URL:https://pureyogacheshire.co.uk/event/yoga-retreat-in-india-north-goa/
LOCATION:England
CATEGORIES:Retreats,Workshops
ATTACH;FMTTYPE=image/jpeg:https://pureyogacheshire.co.uk/wp-content/uploads/2023/04/nalanda-retreat2.jpg
ORGANIZER;CN="Pure Yoga Cheshire":MAILTO:info@pureyogacheshire.co.uk
END:VEVENT
BEGIN:VEVENT
DTSTART;TZID=UTC:20240921T160000
DTEND;TZID=UTC:20240928T130000
DTSTAMP:20260422T223011
CREATED:20231029T192958Z
LAST-MODIFIED:20240213T195648Z
UID:7865-1726934400-1727528400@pureyogacheshire.co.uk
SUMMARY:Hatha Yoga Retreat in Spain
DESCRIPTION:Hatha Yoga and Yoga flow\, traditional Pranayama\, Meditation and yoga philosophy.\nFrom 21st to 28th of September 2024 – Finca El Moro\, Andalucia\nA wonderful opportunity to explore and experience the gifts of Yoga in the stunning surroundings of rural Spain. \nThis retreat includes Hatha Yoga traditions passed down\, practiced and shared over the years. We will begin our days with an early morning meditation\, followed by a unique blend of pranayama and Krya. \nLate morning Asana (yoga postures) practice\, including alignment based postures and fluid free movements\, to energise\, restore and rebalance. \nThe afternoon practice begins with a catch up and time ask questions of all that arises\, physically\, mentally\, emotionally and spiritually. Followed by afternoon asana (yoga postures practice) and somatic movement. \nAndrew and Francesca have been teaching yoga for over 20 years (each) and have been leading retreats all over the world for the past 15 years. \nThe retreat: \nFinca El Moro offers more than 30 years of invaluable experience hosting retreats and group holidays. \n \nAccommodation for up to 14 people in our three beautiful converted stone cottages. \nDelicious meals served on the main terrace using our organic fresh farm produce. \nExclusive use of our facilities\, three swimming pools\, massage studio and Shala. \nUse of Yoga mats\, blocks\, bolsters and straps. The Yoga Shala is a spectacular circular space with wooden floors. \nHow to get there: Seville is the nearest airport. The Retreat organises a transfer on the day of arrival. You can also find more information on how to get there here: https://www.fincaelmoro.com/travel-and-contact/ \nAll inclusive retreat including accommodation\, use of the swimming pool on site\, all meals and yoga tutoring – prices starting at £995 \nA deposit to the retreat is required to secure your booking\, please email Daisy at Finca El Moro daisy@fincaelmoro.com \nPlease feel free to ask any questions info@pureyogacheshire.co.uk – yogawithandrew.co.uk or phone 07521 132931 \nPrices: £995 (€1150) in shared room – £1300 (€1495) in single room \n 
URL:https://pureyogacheshire.co.uk/event/hatha-yoga-immersion-with-andrew-and-francesca/
LOCATION:Finca El Moro\, Fuenteheridos\, Huelva\, 21292\, Spain
CATEGORIES:Retreats
ATTACH;FMTTYPE=image/jpeg:https://pureyogacheshire.co.uk/wp-content/uploads/2023/10/Finca-el-moro-2.jpg
ORGANIZER;CN="Pure Yoga Cheshire":MAILTO:info@pureyogacheshire.co.uk
END:VEVENT
BEGIN:VEVENT
DTSTART;TZID=UTC:20250410T160000
DTEND;TZID=UTC:20250413T130000
DTSTAMP:20260422T223011
CREATED:20240919T125326Z
LAST-MODIFIED:20260101T170924Z
UID:7943-1744300800-1744549200@pureyogacheshire.co.uk
SUMMARY:Spring 2025 Yoga Retreat in Scotland
DESCRIPTION:Experience serenity\, calm and restoration with Andrew’s annual Yoga retreat set in the grounds of the oldest Buddhist Monastery in Europe.  \nFrom Thursday 10th to Sunday 13th of April 2025 \nLooking out over the River Esk in the peaceful hills of the Scottish borders\, ‘Purelands’ at Samye Ling is an ideal setting to inspire\, exhilarate and offer time for reflection in our busy lives. The retreat offers asana\, pranayama\, meditation and mantra\, and an afternoon mandala drawing and meditation. \nThere will be time and opportunity to walk around the meditation garden\, venture up the fairy hill or take a stroll along the river bank\, maybe catching a glimpse of the otters in the unspoiled natural surroundings. \nArriving on the Thursday evening and getting together for an early supper\, we will enjoy a relaxation/yoga nidra session to ground ourselves after travelling. \nAn example of the schedule: \nEarly morning Meditation and Pranayama sessions on Friday\, Saturday and Sunday. \nMid morning Asana (yoga) practice on Friday\, Saturday and Sunday. \nAfternoon session including questions and answers\, restorative yoga and breath work on Friday and Saturday\, and the opportunity of creating your own mandala on the Saturday afternoon. \nDeparture is after lunch on the Sunday. We will observe silence every morning until after the morning yoga session. \nFriends are also welcome to observe and participate in the meditations and puja performed in the very colourful traditional Tibetan Buddhist temple. \nAll accommodation is comfortable single rooms with three home cooked vegetarian meals a day\, drinks available throughout the day. \nPrice includes tuition\, a single room per person\, breakfast\, lunch and supper on Friday and Saturday\, supper on Thursday and breakfast and lunch on Sunday. \nArrival time is flexible: anytime between 3 and 6 pm. Departure after lunch on the Sunday. \nBookings are now being taken\, £150 deposit (non refundable) secures place\, full payment by mid March 2025.
URL:https://pureyogacheshire.co.uk/event/7943/
LOCATION:Kagyu Samye Ling Monastery\, Eskdalemuir\, Langholm\, DG13 0QL\, United Kingdom
CATEGORIES:Retreats,Workshops
ATTACH;FMTTYPE=image/jpeg:https://pureyogacheshire.co.uk/wp-content/uploads/2024/02/MainTemple.jpg
ORGANIZER;CN="Pure Yoga Cheshire":MAILTO:info@pureyogacheshire.co.uk
END:VEVENT
BEGIN:VEVENT
DTSTART;TZID=UTC:20260110T150000
DTEND;TZID=UTC:20260117T120000
DTSTAMP:20260422T223011
CREATED:20250731T165822Z
LAST-MODIFIED:20250731T173607Z
UID:7953-1768057200-1768651200@pureyogacheshire.co.uk
SUMMARY:Yoga in India with Andrew Wrenn - January 2026
DESCRIPTION:Mandrem\, North Goa – 10th to 17th January 2026\nJoin Andrew for an immersion in all the principle of Yoga tradition in the very birthplace of Yoga! \nEnjoy magical sunrises and sunsets by the Indian Ocean in North Goa\, a quiet and luxurious setting amongst a delightful garden. The beautiful\, clean and spacious Mandrem beach is only a few steps away. \nGift yourself to 3 yoga sessions a day including Meditation\, Pranayama and Asana. Plenty of time to explore the nearby markets\, visit local towns and simply enjoy lying down by the beautiful sandy beach of Mandrem. The retreat also has a swimming pool. Delicious vegetarian food offered in the delightful beach restaurant. \nThe retreat includes: accommodation\, breakfast and evening meal\, 3 yoga classes a day. \nCost per person in shared accommodation: £1150. There is a single room option depending on availability at additional cost. Please inquire for availability. \nHow to get there: If possible\, we suggest you arrive a couple of days (or longer) before the retreat to acclimatize yourself to the country and the climate. A good option that has worked well for us in the past\, is to fly to Mumbai where you can spend a night\, and fly to Goa the following day. There are several direct flights from Heathrow to Mumbai and it’s very easy then to book a domestic flight to Goa. We can give you ideas of hotels and places to stay both in Mumbai and Goa. Electronic Tourist Visas are easy to get online. \nThere are only very few spaces for this retreat. Please email us for more information and how to pay a deposit on info@pureyogacheshire.co.uk
URL:https://pureyogacheshire.co.uk/event/yoga-in-india-with-andrew-wrenn-january-2026/
LOCATION:England
CATEGORIES:Retreats,Workshops
ATTACH;FMTTYPE=image/jpeg:https://pureyogacheshire.co.uk/wp-content/uploads/2025/07/India-2024-sunset.jpg
END:VEVENT
BEGIN:VEVENT
DTSTART;TZID=UTC:20260416T150000
DTEND;TZID=UTC:20260419T133000
DTSTAMP:20260422T223011
CREATED:20251211T170308Z
LAST-MODIFIED:20260101T171012Z
UID:7960-1776351600-1776605400@pureyogacheshire.co.uk
SUMMARY:Yoga Retreat in Scotland - Spring 2026
DESCRIPTION:Experience serenity\, calm and restoration with Andrew’s annual Yoga retreat set in the grounds of the oldest Buddhist Monastery in Europe.  \nFrom Thursday 16th to Sunday 19th April 2026 \nLooking out over the River Esk in the peaceful hills of the Scottish borders\, ‘Purelands’ at Samye Ling is an ideal setting to inspire\, exhilarate and offer time for reflection in our busy lives. The retreat offers asana\, pranayama\, meditation and mantra\, and an afternoon mandala drawing and meditation. \nThere will be time and opportunity to walk around the meditation garden\, venture up the fairy hill or take a stroll along the river bank\, maybe catching a glimpse of the otters in the unspoiled natural surroundings. \nArriving on the Thursday evening and getting together for an early supper\, we will enjoy a relaxation/yoga nidra session to ground ourselves after travelling. \nAn example of the schedule: \nEarly morning Meditation and Pranayama sessions on Friday\, Saturday and Sunday. \nMid morning Asana (yoga) practice on Friday\, Saturday and Sunday. \nAfternoon session including questions and answers\, restorative yoga and breath work on Friday and Saturday\, and the opportunity of creating your own mandala on the Saturday afternoon. \nDeparture is after lunch on the Sunday. We will observe silence every morning until after the morning yoga session. \nFriends are also welcome to observe and participate in the meditations and puja performed in the very colourful traditional Tibetan Buddhist temple. \nAll accommodation is comfortable single rooms with three home cooked vegetarian meals a day\, drinks available throughout the day. \nPrice £475 includes tuition\, a single room per person\, breakfast\, lunch and supper on Friday and Saturday\, supper on Thursday and breakfast and lunch on Sunday. \nArrival time is flexible: anytime between 3 and 6 pm. Departure after lunch on the Sunday. \nBookings are now being taken\, £150 deposit (non refundable) secures place\, full payment by mid March 2025.
URL:https://pureyogacheshire.co.uk/event/yoga-retreat-in-scotland-spring-2026/
LOCATION:Kagyu Samye Ling Monastery\, Eskdalemuir\, Langholm\, DG13 0QL\, United Kingdom
CATEGORIES:Retreats,Workshops
ATTACH;FMTTYPE=image/jpeg:https://pureyogacheshire.co.uk/wp-content/uploads/2024/02/MainTemple.jpg
END:VEVENT
BEGIN:VEVENT
DTSTART;TZID=UTC:20270110T150000
DTEND;TZID=UTC:20270120T130000
DTSTAMP:20260422T223011
CREATED:20260213T144352Z
LAST-MODIFIED:20260213T144645Z
UID:7969-1799593200-1800450000@pureyogacheshire.co.uk
SUMMARY:Yoga in India with Andrew - January 2027
DESCRIPTION:Mandrem\, North Goa – 10th to 20th January 2027\nJoin Andrew for an immersion in all the principle of Yoga tradition in the very birthplace of Yoga! \nEnjoy magical sunrises and sunsets by the Indian Ocean in North Goa\, a quiet and luxurious setting amongst a delightful garden. The beautiful\, clean and spacious Mandrem beach is only a few steps away. \nGift yourself to 3 yoga sessions a day including Meditation\, Pranayama and Asana. Plenty of time to explore the nearby markets\, visit local towns and simply enjoy lying down by the beautiful sandy beach of Mandrem. The retreat also has a swimming pool. Delicious vegetarian food offered in the delightful beach restaurant. \nThe retreat includes: accommodation\, breakfast and evening meal\, 3 yoga classes a day. \nCost for 10 nights per person in shared accommodation: £1650. There is a single room option depending on availability at additional cost. Please inquire for availability. \nHow to get there: If possible\, we suggest you arrive a couple of days (or longer) before the retreat to acclimatize yourself to the country and the climate. A good option that has worked well for us in the past\, is to fly to Mumbai where you can spend a night\, and fly to Goa the following day. There are several direct flights from Heathrow to Mumbai and it’s very easy then to book a domestic flight to Goa. We can give you ideas of hotels and places to stay both in Mumbai and Goa. Electronic Tourist Visas are easy to get online. \nThere are only very few spaces for this retreat. Please email us for more information and how to pay a deposit on info@pureyogacheshire.co.uk
URL:https://pureyogacheshire.co.uk/event/yoga-in-india-with-andrew-january-2027/
LOCATION:Goa\, India\, India
CATEGORIES:Retreats,Workshops
ATTACH;FMTTYPE=image/jpeg:https://pureyogacheshire.co.uk/wp-content/uploads/2026/02/warrior-India-e1770993789280.jpg
ORGANIZER;CN="Pure Yoga Cheshire":MAILTO:info@pureyogacheshire.co.uk
END:VEVENT
END:VCALENDAR